BEGIN:VCALENDAR
VERSION:2.0
PRODID:-//McKenzie Elementary - ECPv6.2.8.1//NONSGML v1.0//EN
CALSCALE:GREGORIAN
METHOD:PUBLISH
X-WR-CALNAME:McKenzie Elementary
X-ORIGINAL-URL:https://mckenzie.sd61.bc.ca
X-WR-CALDESC:Events for McKenzie Elementary
REFRESH-INTERVAL;VALUE=DURATION:PT1H
X-Robots-Tag:noindex
X-PUBLISHED-TTL:PT1H
BEGIN:VTIMEZONE
TZID:America/Vancouver
BEGIN:DAYLIGHT
TZOFFSETFROM:-0800
TZOFFSETTO:-0700
TZNAME:PDT
DTSTART:20150308T100000
END:DAYLIGHT
BEGIN:STANDARD
TZOFFSETFROM:-0700
TZOFFSETTO:-0800
TZNAME:PST
DTSTART:20151101T090000
END:STANDARD
END:VTIMEZONE
BEGIN:VEVENT
DTSTART;TZID=America/Vancouver:20150603T130000
DTEND;TZID=America/Vancouver:20150603T141500
DTSTAMP:20260419T231228
CREATED:20150507T185304Z
LAST-MODIFIED:20150527T165748Z
UID:2323-1433336400-1433340900@mckenzie.sd61.bc.ca
SUMMARY:SPRING CONCERT
DESCRIPTION:Doors open at 12:30 pm. \nTicket info has been sent home.
URL:https://mckenzie.sd61.bc.ca/calendar-event/spring-concert-ticket-info-to-follow/
END:VEVENT
BEGIN:VEVENT
DTSTART;TZID=America/Vancouver:20150604T130000
DTEND;TZID=America/Vancouver:20150604T141500
DTSTAMP:20260419T231228
CREATED:20150507T185458Z
LAST-MODIFIED:20150527T165607Z
UID:2324-1433422800-1433427300@mckenzie.sd61.bc.ca
SUMMARY:SPRING CONCERT
DESCRIPTION:Doors open at 12:30 pm. \nTicket info has been sent home.
URL:https://mckenzie.sd61.bc.ca/calendar-event/spring-concert-ticket-info-to-follow-2/
END:VEVENT
BEGIN:VEVENT
DTSTART;TZID=America/Vancouver:20150609T090000
DTEND;TZID=America/Vancouver:20150609T110000
DTSTAMP:20260419T231228
CREATED:20150603T161946Z
LAST-MODIFIED:20150603T161946Z
UID:2358-1433840400-1433847600@mckenzie.sd61.bc.ca
SUMMARY:Bike Roadeo
DESCRIPTION:
URL:https://mckenzie.sd61.bc.ca/calendar-event/bike-roadeo-2/
END:VEVENT
BEGIN:VEVENT
DTSTART;TZID=America/Vancouver:20150610T183000
DTEND;TZID=America/Vancouver:20150610T203000
DTSTAMP:20260419T231228
CREATED:20140930T182838Z
LAST-MODIFIED:20140930T182838Z
UID:2117-1433961000-1433968200@mckenzie.sd61.bc.ca
SUMMARY:PAC Meeting
DESCRIPTION:
URL:https://mckenzie.sd61.bc.ca/calendar-event/pac-meeting-14/
END:VEVENT
BEGIN:VEVENT
DTSTART;VALUE=DATE:20150612
DTEND;VALUE=DATE:20150613
DTSTAMP:20260419T231228
CREATED:20140930T183014Z
LAST-MODIFIED:20140930T213118Z
UID:2119-1434067200-1434153599@mckenzie.sd61.bc.ca
SUMMARY:Grandfriends Day * Free Hot Dog Day
DESCRIPTION:
URL:https://mckenzie.sd61.bc.ca/calendar-event/grandfriends-day-free-hot-dog-day/
END:VEVENT
BEGIN:VEVENT
DTSTART;VALUE=DATE:20150612
DTEND;VALUE=DATE:20150613
DTSTAMP:20260419T231228
CREATED:20150612T155606Z
LAST-MODIFIED:20150612T155606Z
UID:2366-1434067200-1434153599@mckenzie.sd61.bc.ca
SUMMARY:Strong Start Closed Today
DESCRIPTION:
URL:https://mckenzie.sd61.bc.ca/calendar-event/strong-start-closed-today-2/
END:VEVENT
BEGIN:VEVENT
DTSTART;VALUE=DATE:20150618
DTEND;VALUE=DATE:20150619
DTSTAMP:20260419T231228
CREATED:20140930T183044Z
LAST-MODIFIED:20140930T183044Z
UID:2120-1434585600-1434671999@mckenzie.sd61.bc.ca
SUMMARY:Leadership Lunch
DESCRIPTION:
URL:https://mckenzie.sd61.bc.ca/calendar-event/leadership-lunch-2/
END:VEVENT
BEGIN:VEVENT
DTSTART;VALUE=DATE:20150622
DTEND;VALUE=DATE:20150623
DTSTAMP:20260419T231228
CREATED:20140930T183115Z
LAST-MODIFIED:20140930T183115Z
UID:2121-1434931200-1435017599@mckenzie.sd61.bc.ca
SUMMARY:Beach Day
DESCRIPTION:
URL:https://mckenzie.sd61.bc.ca/calendar-event/beach-day-2/
END:VEVENT
BEGIN:VEVENT
DTSTART;VALUE=DATE:20150624
DTEND;VALUE=DATE:20150625
DTSTAMP:20260419T231228
CREATED:20140930T184433Z
LAST-MODIFIED:20140930T212937Z
UID:2122-1435104000-1435190399@mckenzie.sd61.bc.ca
SUMMARY:Red and White Day * Final Assembly @ 10:30 a.m. * Grade 5 Potluck Lunch
DESCRIPTION:
URL:https://mckenzie.sd61.bc.ca/calendar-event/red-and-white-day-final-assembly-1030-a-m-grade-5-potluck-lunch/
END:VEVENT
BEGIN:VEVENT
DTSTART;VALUE=DATE:20150624
DTEND;VALUE=DATE:20150625
DTSTAMP:20260419T231228
CREATED:20150519T192449Z
LAST-MODIFIED:20150519T192449Z
UID:2344-1435104000-1435190399@mckenzie.sd61.bc.ca
SUMMARY:Last Day of Strong Start
DESCRIPTION:
URL:https://mckenzie.sd61.bc.ca/calendar-event/last-day-of-strong-start/
END:VEVENT
BEGIN:VEVENT
DTSTART;VALUE=DATE:20150625
DTEND;VALUE=DATE:20150626
DTSTAMP:20260419T231229
CREATED:20140930T185641Z
LAST-MODIFIED:20140930T185641Z
UID:2123-1435190400-1435276799@mckenzie.sd61.bc.ca
SUMMARY:Last Day for Students * Year End Fun Day * Report Cards Go Home
DESCRIPTION:
URL:https://mckenzie.sd61.bc.ca/calendar-event/last-day-for-students-year-end-fun-day-report-cards-go-home/
END:VEVENT
BEGIN:VEVENT
DTSTART;VALUE=DATE:20150626
DTEND;VALUE=DATE:20150627
DTSTAMP:20260419T231229
CREATED:20140930T185714Z
LAST-MODIFIED:20140930T185714Z
UID:2124-1435276800-1435363199@mckenzie.sd61.bc.ca
SUMMARY:Administrative Day
DESCRIPTION:
URL:https://mckenzie.sd61.bc.ca/calendar-event/administrative-day-2/
END:VEVENT
END:VCALENDAR