BEGIN:VCALENDAR
VERSION:2.0
PRODID:-//McKenzie Elementary - ECPv6.2.8.1//NONSGML v1.0//EN
CALSCALE:GREGORIAN
METHOD:PUBLISH
X-ORIGINAL-URL:https://mckenzie.sd61.bc.ca
X-WR-CALDESC:Events for McKenzie Elementary
REFRESH-INTERVAL;VALUE=DURATION:PT1H
X-Robots-Tag:noindex
X-PUBLISHED-TTL:PT1H
BEGIN:VTIMEZONE
TZID:America/Vancouver
BEGIN:DAYLIGHT
TZOFFSETFROM:-0800
TZOFFSETTO:-0700
TZNAME:PDT
DTSTART:20150308T100000
END:DAYLIGHT
BEGIN:STANDARD
TZOFFSETFROM:-0700
TZOFFSETTO:-0800
TZNAME:PST
DTSTART:20151101T090000
END:STANDARD
END:VTIMEZONE
BEGIN:VEVENT
DTSTART;TZID=America/Vancouver:20150304T183000
DTEND;TZID=America/Vancouver:20150304T203000
DTSTAMP:20260420T094423
CREATED:20140929T202544Z
LAST-MODIFIED:20140929T202544Z
UID:2095-1425493800-1425501000@mckenzie.sd61.bc.ca
SUMMARY:PAC Meeting
DESCRIPTION:
URL:https://mckenzie.sd61.bc.ca/calendar-event/pac-meeting-11/
END:VEVENT
BEGIN:VEVENT
DTSTART;VALUE=DATE:20150306
DTEND;VALUE=DATE:20150307
DTSTAMP:20260420T094423
CREATED:20140929T202453Z
LAST-MODIFIED:20140929T202958Z
UID:2094-1425600000-1425686399@mckenzie.sd61.bc.ca
SUMMARY:Special Food Day  * Report Cards Home *  Last Day Before Spring Break
DESCRIPTION:
URL:https://mckenzie.sd61.bc.ca/calendar-event/special-food-day-report-cards-home-last-day-before-spring-break/
END:VEVENT
BEGIN:VEVENT
DTSTART;TZID=America/Vancouver:20150309T080000
DTEND;TZID=America/Vancouver:20150313T170000
DTSTAMP:20260420T094423
CREATED:20140929T202631Z
LAST-MODIFIED:20140929T202631Z
UID:2096-1425888000-1426266000@mckenzie.sd61.bc.ca
SUMMARY:Spring Break This Week
DESCRIPTION:
URL:https://mckenzie.sd61.bc.ca/calendar-event/spring-break-this-week/
END:VEVENT
BEGIN:VEVENT
DTSTART;TZID=America/Vancouver:20150316T080000
DTEND;TZID=America/Vancouver:20150320T170000
DTSTAMP:20260420T094423
CREATED:20140929T202715Z
LAST-MODIFIED:20140929T202715Z
UID:2097-1426492800-1426870800@mckenzie.sd61.bc.ca
SUMMARY:Spring Break This Week
DESCRIPTION:
URL:https://mckenzie.sd61.bc.ca/calendar-event/spring-break-this-week-2/
END:VEVENT
BEGIN:VEVENT
DTSTART;VALUE=DATE:20150330
DTEND;VALUE=DATE:20150331
DTSTAMP:20260420T094423
CREATED:20140929T202748Z
LAST-MODIFIED:20140929T202748Z
UID:2098-1427673600-1427759999@mckenzie.sd61.bc.ca
SUMMARY:Assembly
DESCRIPTION:
URL:https://mckenzie.sd61.bc.ca/calendar-event/assembly-6/
END:VEVENT
BEGIN:VEVENT
DTSTART;VALUE=DATE:20150401
DTEND;VALUE=DATE:20150402
DTSTAMP:20260420T094423
CREATED:20140929T203632Z
LAST-MODIFIED:20141001T195733Z
UID:2099-1427846400-1427932799@mckenzie.sd61.bc.ca
SUMMARY:Parent Requested Conferences * 11:59 Dismissal
DESCRIPTION:
URL:https://mckenzie.sd61.bc.ca/calendar-event/parent-requested-conferences-1157-dismissal/
END:VEVENT
END:VCALENDAR