BEGIN:VCALENDAR
VERSION:2.0
PRODID:-//McKenzie Elementary - ECPv6.2.8.1//NONSGML v1.0//EN
CALSCALE:GREGORIAN
METHOD:PUBLISH
X-ORIGINAL-URL:https://mckenzie.sd61.bc.ca
X-WR-CALDESC:Events for McKenzie Elementary
REFRESH-INTERVAL;VALUE=DURATION:PT1H
X-Robots-Tag:noindex
X-PUBLISHED-TTL:PT1H
BEGIN:VTIMEZONE
TZID:America/Vancouver
BEGIN:DAYLIGHT
TZOFFSETFROM:-0800
TZOFFSETTO:-0700
TZNAME:PDT
DTSTART:20150308T100000
END:DAYLIGHT
BEGIN:STANDARD
TZOFFSETFROM:-0700
TZOFFSETTO:-0800
TZNAME:PST
DTSTART:20151101T090000
END:STANDARD
END:VTIMEZONE
BEGIN:VEVENT
DTSTART;VALUE=DATE:20150202
DTEND;VALUE=DATE:20150206
DTSTAMP:20260420T181312
CREATED:20140929T191650Z
LAST-MODIFIED:20150127T195844Z
UID:2083-1422835200-1423180799@mckenzie.sd61.bc.ca
SUMMARY:READING WEEK * Book Fair This Week
DESCRIPTION:
URL:https://mckenzie.sd61.bc.ca/calendar-event/reading-week-book-fair-this-week/
END:VEVENT
BEGIN:VEVENT
DTSTART;VALUE=DATE:20150205
DTEND;VALUE=DATE:20150206
DTSTAMP:20260420T181312
CREATED:20140929T191801Z
LAST-MODIFIED:20141001T195810Z
UID:2084-1423094400-1423180799@mckenzie.sd61.bc.ca
SUMMARY:Student Led Conferences * 11:59 a.m. Dismissal
DESCRIPTION:
URL:https://mckenzie.sd61.bc.ca/calendar-event/student-led-conferences-1157-a-m-dismissal/
END:VEVENT
BEGIN:VEVENT
DTSTART;VALUE=DATE:20150206
DTEND;VALUE=DATE:20150207
DTSTAMP:20260420T181312
CREATED:20140929T191924Z
LAST-MODIFIED:20140929T191924Z
UID:2085-1423180800-1423267199@mckenzie.sd61.bc.ca
SUMMARY:Pro-D Day in Lieu
DESCRIPTION:
URL:https://mckenzie.sd61.bc.ca/calendar-event/pro-d-day-in-lieu/
END:VEVENT
BEGIN:VEVENT
DTSTART;VALUE=DATE:20150209
DTEND;VALUE=DATE:20150210
DTSTAMP:20260420T181312
CREATED:20140929T192055Z
LAST-MODIFIED:20140930T214009Z
UID:2086-1423440000-1423526399@mckenzie.sd61.bc.ca
SUMMARY:Family Day * School Not in Session
DESCRIPTION:
URL:https://mckenzie.sd61.bc.ca/calendar-event/family-day-school-not-in-session/
END:VEVENT
BEGIN:VEVENT
DTSTART;TZID=America/Vancouver:20150211T183000
DTEND;TZID=America/Vancouver:20150211T203000
DTSTAMP:20260420T181312
CREATED:20140929T192149Z
LAST-MODIFIED:20140929T192149Z
UID:2087-1423679400-1423686600@mckenzie.sd61.bc.ca
SUMMARY:PAC Meeting
DESCRIPTION:
URL:https://mckenzie.sd61.bc.ca/calendar-event/pac-meeting-10/
END:VEVENT
BEGIN:VEVENT
DTSTART;VALUE=DATE:20150213
DTEND;VALUE=DATE:20150214
DTSTAMP:20260420T181312
CREATED:20140929T192216Z
LAST-MODIFIED:20140929T192216Z
UID:2088-1423785600-1423871999@mckenzie.sd61.bc.ca
SUMMARY:Red and Pink Day
DESCRIPTION:
URL:https://mckenzie.sd61.bc.ca/calendar-event/red-and-pink-day/
END:VEVENT
BEGIN:VEVENT
DTSTART;TZID=America/Vancouver:20150218T100000
DTEND;TZID=America/Vancouver:20150218T114500
DTSTAMP:20260420T181312
CREATED:20140929T192322Z
LAST-MODIFIED:20140929T192322Z
UID:2089-1424253600-1424259900@mckenzie.sd61.bc.ca
SUMMARY:Ready Set Learn
DESCRIPTION:
URL:https://mckenzie.sd61.bc.ca/calendar-event/ready-set-learn/
END:VEVENT
BEGIN:VEVENT
DTSTART;VALUE=DATE:20150220
DTEND;VALUE=DATE:20150221
DTSTAMP:20260420T181312
CREATED:20140929T192359Z
LAST-MODIFIED:20140929T192359Z
UID:2090-1424390400-1424476799@mckenzie.sd61.bc.ca
SUMMARY:Pro D Day
DESCRIPTION:
URL:https://mckenzie.sd61.bc.ca/calendar-event/pro-d-day-3/
END:VEVENT
BEGIN:VEVENT
DTSTART;VALUE=DATE:20150223
DTEND;VALUE=DATE:20150224
DTSTAMP:20260420T181312
CREATED:20140929T192604Z
LAST-MODIFIED:20140929T192604Z
UID:2091-1424649600-1424735999@mckenzie.sd61.bc.ca
SUMMARY:Assembly
DESCRIPTION:
URL:https://mckenzie.sd61.bc.ca/calendar-event/assembly-5/
END:VEVENT
BEGIN:VEVENT
DTSTART;VALUE=DATE:20150226
DTEND;VALUE=DATE:20150227
DTSTAMP:20260420T181312
CREATED:20140929T192647Z
LAST-MODIFIED:20140929T192647Z
UID:2092-1424908800-1424995199@mckenzie.sd61.bc.ca
SUMMARY:Movie Night
DESCRIPTION:
URL:https://mckenzie.sd61.bc.ca/calendar-event/movie-night/
END:VEVENT
END:VCALENDAR