BEGIN:VCALENDAR
VERSION:2.0
PRODID:-//McKenzie Elementary - ECPv6.2.8.1//NONSGML v1.0//EN
CALSCALE:GREGORIAN
METHOD:PUBLISH
X-WR-CALNAME:McKenzie Elementary
X-ORIGINAL-URL:https://mckenzie.sd61.bc.ca
X-WR-CALDESC:Events for McKenzie Elementary
REFRESH-INTERVAL;VALUE=DURATION:PT1H
X-Robots-Tag:noindex
X-PUBLISHED-TTL:PT1H
BEGIN:VTIMEZONE
TZID:America/Vancouver
BEGIN:DAYLIGHT
TZOFFSETFROM:-0800
TZOFFSETTO:-0700
TZNAME:PDT
DTSTART:20140309T100000
END:DAYLIGHT
BEGIN:STANDARD
TZOFFSETFROM:-0700
TZOFFSETTO:-0800
TZNAME:PST
DTSTART:20141102T090000
END:STANDARD
END:VTIMEZONE
BEGIN:VEVENT
DTSTART;TZID=America/Vancouver:20141110T103000
DTEND;TZID=America/Vancouver:20141110T103000
DTSTAMP:20260421T160626
CREATED:20140929T183405Z
LAST-MODIFIED:20141107T175758Z
UID:2060-1415615400-1415615400@mckenzie.sd61.bc.ca
SUMMARY:Remembrance Day Assembly
DESCRIPTION:
URL:https://mckenzie.sd61.bc.ca/calendar-event/remembrance-day-assembly/
END:VEVENT
BEGIN:VEVENT
DTSTART;VALUE=DATE:20141111
DTEND;VALUE=DATE:20141112
DTSTAMP:20260421T160626
CREATED:20140929T183451Z
LAST-MODIFIED:20140930T214444Z
UID:2061-1415664000-1415750399@mckenzie.sd61.bc.ca
SUMMARY:Remembrance Day * School Not In Session
DESCRIPTION:
URL:https://mckenzie.sd61.bc.ca/calendar-event/remembrance-day-school-not-in-session-2/
END:VEVENT
BEGIN:VEVENT
DTSTART;TZID=America/Vancouver:20141112T183000
DTEND;TZID=America/Vancouver:20141112T203000
DTSTAMP:20260421T160626
CREATED:20140929T183545Z
LAST-MODIFIED:20140929T183545Z
UID:2062-1415817000-1415824200@mckenzie.sd61.bc.ca
SUMMARY:PAC Meeting
DESCRIPTION:
URL:https://mckenzie.sd61.bc.ca/calendar-event/pac-meeting-7/
END:VEVENT
BEGIN:VEVENT
DTSTART;VALUE=DATE:20141113
DTEND;VALUE=DATE:20141114
DTSTAMP:20260421T160626
CREATED:20140929T202234Z
LAST-MODIFIED:20140929T202234Z
UID:2093-1415836800-1415923199@mckenzie.sd61.bc.ca
SUMMARY:Individual Photo Re-takes
DESCRIPTION:
URL:https://mckenzie.sd61.bc.ca/calendar-event/individual-photo-re-takes/
END:VEVENT
BEGIN:VEVENT
DTSTART;VALUE=DATE:20141114
DTEND;VALUE=DATE:20141115
DTSTAMP:20260421T160626
CREATED:20140929T183614Z
LAST-MODIFIED:20140929T183614Z
UID:2063-1415923200-1416009599@mckenzie.sd61.bc.ca
SUMMARY:Special Food Day
DESCRIPTION:
URL:https://mckenzie.sd61.bc.ca/calendar-event/special-food-day-9/
END:VEVENT
BEGIN:VEVENT
DTSTART;VALUE=DATE:20141121
DTEND;VALUE=DATE:20141122
DTSTAMP:20260421T160626
CREATED:20140929T183645Z
LAST-MODIFIED:20140929T183645Z
UID:2064-1416528000-1416614399@mckenzie.sd61.bc.ca
SUMMARY:Pro-D Day
DESCRIPTION:
URL:https://mckenzie.sd61.bc.ca/calendar-event/pro-d-day-2/
END:VEVENT
BEGIN:VEVENT
DTSTART;VALUE=DATE:20141124
DTEND;VALUE=DATE:20141125
DTSTAMP:20260421T160626
CREATED:20140929T183715Z
LAST-MODIFIED:20140929T183715Z
UID:2065-1416787200-1416873599@mckenzie.sd61.bc.ca
SUMMARY:Assembly
DESCRIPTION:
URL:https://mckenzie.sd61.bc.ca/calendar-event/assembly-3/
END:VEVENT
BEGIN:VEVENT
DTSTART;VALUE=DATE:20141201
DTEND;VALUE=DATE:20141206
DTSTAMP:20260421T160626
CREATED:20140929T184138Z
LAST-MODIFIED:20140929T185708Z
UID:2068-1417392000-1417823999@mckenzie.sd61.bc.ca
SUMMARY:Santa Shoppe This Week
DESCRIPTION:
URL:https://mckenzie.sd61.bc.ca/calendar-event/santa-shoppe-this-week/
END:VEVENT
END:VCALENDAR