BEGIN:VCALENDAR
VERSION:2.0
PRODID:-//McKenzie Elementary - ECPv6.2.8.1//NONSGML v1.0//EN
CALSCALE:GREGORIAN
METHOD:PUBLISH
X-WR-CALNAME:McKenzie Elementary
X-ORIGINAL-URL:https://mckenzie.sd61.bc.ca
X-WR-CALDESC:Events for McKenzie Elementary
REFRESH-INTERVAL;VALUE=DURATION:PT1H
X-Robots-Tag:noindex
X-PUBLISHED-TTL:PT1H
BEGIN:VTIMEZONE
TZID:America/Vancouver
BEGIN:DAYLIGHT
TZOFFSETFROM:-0800
TZOFFSETTO:-0700
TZNAME:PDT
DTSTART:20140309T100000
END:DAYLIGHT
BEGIN:STANDARD
TZOFFSETFROM:-0700
TZOFFSETTO:-0800
TZNAME:PST
DTSTART:20141102T090000
END:STANDARD
END:VTIMEZONE
BEGIN:VEVENT
DTSTART;VALUE=DATE:20141006
DTEND;VALUE=DATE:20141007
DTSTAMP:20260422T034026
CREATED:20140929T173530Z
LAST-MODIFIED:20140929T182258Z
UID:2048-1412553600-1412639999@mckenzie.sd61.bc.ca
SUMMARY:First Cross Country Meet
DESCRIPTION:
URL:https://mckenzie.sd61.bc.ca/calendar-event/first-cross-country-meet-3/
END:VEVENT
BEGIN:VEVENT
DTSTART;TZID=America/Vancouver:20141008T183000
DTEND;TZID=America/Vancouver:20141008T203000
DTSTAMP:20260422T034026
CREATED:20140929T174027Z
LAST-MODIFIED:20140929T174350Z
UID:2049-1412793000-1412800200@mckenzie.sd61.bc.ca
SUMMARY:PAC Meeting
DESCRIPTION:
URL:https://mckenzie.sd61.bc.ca/calendar-event/pac-meeting-6/
END:VEVENT
BEGIN:VEVENT
DTSTART;VALUE=DATE:20141013
DTEND;VALUE=DATE:20141014
DTSTAMP:20260422T034026
CREATED:20140929T182433Z
LAST-MODIFIED:20140929T182523Z
UID:2050-1413158400-1413244799@mckenzie.sd61.bc.ca
SUMMARY:Thanksgiving Day
DESCRIPTION:
URL:https://mckenzie.sd61.bc.ca/calendar-event/thanksgiving-day/
END:VEVENT
BEGIN:VEVENT
DTSTART;VALUE=DATE:20141014
DTEND;VALUE=DATE:20141015
DTSTAMP:20260422T034026
CREATED:20140929T182603Z
LAST-MODIFIED:20140929T182603Z
UID:2052-1413244800-1413331199@mckenzie.sd61.bc.ca
SUMMARY:Cross Country Meet
DESCRIPTION:
URL:https://mckenzie.sd61.bc.ca/calendar-event/cross-country-meet/
END:VEVENT
BEGIN:VEVENT
DTSTART;VALUE=DATE:20141017
DTEND;VALUE=DATE:20141018
DTSTAMP:20260422T034026
CREATED:20140929T182634Z
LAST-MODIFIED:20140929T182634Z
UID:2053-1413504000-1413590399@mckenzie.sd61.bc.ca
SUMMARY:Special Food Day
DESCRIPTION:
URL:https://mckenzie.sd61.bc.ca/calendar-event/special-food-day-8/
END:VEVENT
BEGIN:VEVENT
DTSTART;VALUE=DATE:20141020
DTEND;VALUE=DATE:20141021
DTSTAMP:20260422T034026
CREATED:20140929T182711Z
LAST-MODIFIED:20140929T182711Z
UID:2054-1413763200-1413849599@mckenzie.sd61.bc.ca
SUMMARY:Cross Country Meet
DESCRIPTION:
URL:https://mckenzie.sd61.bc.ca/calendar-event/cross-country-meet-2/
END:VEVENT
BEGIN:VEVENT
DTSTART;VALUE=DATE:20141023
DTEND;VALUE=DATE:20141024
DTSTAMP:20260422T034026
CREATED:20140929T182929Z
LAST-MODIFIED:20140929T182929Z
UID:2055-1414022400-1414108799@mckenzie.sd61.bc.ca
SUMMARY:Hallowe'en Movie Night
DESCRIPTION:
URL:https://mckenzie.sd61.bc.ca/calendar-event/halloween-movie-night/
END:VEVENT
BEGIN:VEVENT
DTSTART;VALUE=DATE:20141024
DTEND;VALUE=DATE:20141025
DTSTAMP:20260422T034026
CREATED:20140929T183007Z
LAST-MODIFIED:20140929T183007Z
UID:2056-1414108800-1414195199@mckenzie.sd61.bc.ca
SUMMARY:Pro-D Day
DESCRIPTION:
URL:https://mckenzie.sd61.bc.ca/calendar-event/pro-d-day/
END:VEVENT
BEGIN:VEVENT
DTSTART;VALUE=DATE:20141027
DTEND;VALUE=DATE:20141028
DTSTAMP:20260422T034026
CREATED:20140929T183045Z
LAST-MODIFIED:20140929T183046Z
UID:2057-1414368000-1414454399@mckenzie.sd61.bc.ca
SUMMARY:Cross Country City Finals
DESCRIPTION:
URL:https://mckenzie.sd61.bc.ca/calendar-event/cross-country-city-finals/
END:VEVENT
BEGIN:VEVENT
DTSTART;VALUE=DATE:20141029
DTEND;VALUE=DATE:20141030
DTSTAMP:20260422T034026
CREATED:20140929T183121Z
LAST-MODIFIED:20140930T214541Z
UID:2058-1414540800-1414627199@mckenzie.sd61.bc.ca
SUMMARY:Photo Day * Individual Photos
DESCRIPTION:
URL:https://mckenzie.sd61.bc.ca/calendar-event/photo-day-individual-photos/
END:VEVENT
BEGIN:VEVENT
DTSTART;VALUE=DATE:20141031
DTEND;VALUE=DATE:20141101
DTSTAMP:20260422T034026
CREATED:20140929T183145Z
LAST-MODIFIED:20140929T183145Z
UID:2059-1414713600-1414799999@mckenzie.sd61.bc.ca
SUMMARY:Orange and Black Day
DESCRIPTION:
URL:https://mckenzie.sd61.bc.ca/calendar-event/orange-and-black-day/
END:VEVENT
END:VCALENDAR