BEGIN:VCALENDAR
VERSION:2.0
PRODID:-//McKenzie Elementary - ECPv6.2.8.1//NONSGML v1.0//EN
CALSCALE:GREGORIAN
METHOD:PUBLISH
X-WR-CALNAME:McKenzie Elementary
X-ORIGINAL-URL:https://mckenzie.sd61.bc.ca
X-WR-CALDESC:Events for McKenzie Elementary
REFRESH-INTERVAL;VALUE=DURATION:PT1H
X-Robots-Tag:noindex
X-PUBLISHED-TTL:PT1H
BEGIN:VTIMEZONE
TZID:America/Vancouver
BEGIN:DAYLIGHT
TZOFFSETFROM:-0800
TZOFFSETTO:-0700
TZNAME:PDT
DTSTART:20140309T100000
END:DAYLIGHT
BEGIN:STANDARD
TZOFFSETFROM:-0700
TZOFFSETTO:-0800
TZNAME:PST
DTSTART:20141102T090000
END:STANDARD
END:VTIMEZONE
BEGIN:VEVENT
DTSTART;TZID=America/Vancouver:20140619T120000
DTEND;TZID=America/Vancouver:20140619T120000
DTSTAMP:20260422T145005
CREATED:20140121T180044Z
LAST-MODIFIED:20140121T180044Z
UID:1735-1403179200-1403179200@mckenzie.sd61.bc.ca
SUMMARY:Leadership Lunch
DESCRIPTION:
URL:https://mckenzie.sd61.bc.ca/calendar-event/leadership-lunch/
END:VEVENT
BEGIN:VEVENT
DTSTART;TZID=America/Vancouver:20140613T120000
DTEND;TZID=America/Vancouver:20140613T120000
DTSTAMP:20260422T145005
CREATED:20140121T180009Z
LAST-MODIFIED:20140121T180009Z
UID:1734-1402660800-1402660800@mckenzie.sd61.bc.ca
SUMMARY:PAC's Free Hot Dog Day Lunch
DESCRIPTION:
URL:https://mckenzie.sd61.bc.ca/calendar-event/pacs-free-hot-dog-day-lunch/
END:VEVENT
BEGIN:VEVENT
DTSTART;TZID=America/Vancouver:20140612T103000
DTEND;TZID=America/Vancouver:20140612T123000
DTSTAMP:20260422T145005
CREATED:20140121T175857Z
LAST-MODIFIED:20140123T185114Z
UID:1733-1402569000-1402576200@mckenzie.sd61.bc.ca
SUMMARY:Grandfriends Day
DESCRIPTION:
URL:https://mckenzie.sd61.bc.ca/calendar-event/grandfriends-day/
END:VEVENT
BEGIN:VEVENT
DTSTART;TZID=America/Vancouver:20140612T080000
DTEND;TZID=America/Vancouver:20140612T090000
DTSTAMP:20260422T145005
CREATED:20140121T175812Z
LAST-MODIFIED:20140121T175812Z
UID:1732-1402560000-1402563600@mckenzie.sd61.bc.ca
SUMMARY:Volunteer Thank You Drive Through
DESCRIPTION:
URL:https://mckenzie.sd61.bc.ca/calendar-event/volunteer-thank-you-drive-through/
END:VEVENT
BEGIN:VEVENT
DTSTART;TZID=America/Vancouver:20140611T183000
DTEND;TZID=America/Vancouver:20140611T183000
DTSTAMP:20260422T145005
CREATED:20140121T175720Z
LAST-MODIFIED:20140121T175720Z
UID:1731-1402511400-1402511400@mckenzie.sd61.bc.ca
SUMMARY:PAC Meeting
DESCRIPTION:
URL:https://mckenzie.sd61.bc.ca/calendar-event/pac-meeting-5/
END:VEVENT
BEGIN:VEVENT
DTSTART;TZID=America/Vancouver:20140605T080000
DTEND;TZID=America/Vancouver:20140605T170000
DTSTAMP:20260422T145005
CREATED:20140502T211547Z
LAST-MODIFIED:20140502T211547Z
UID:1969-1401955200-1401987600@mckenzie.sd61.bc.ca
SUMMARY:Bike Roadeo
DESCRIPTION:
URL:https://mckenzie.sd61.bc.ca/calendar-event/bike-roadeo/
END:VEVENT
BEGIN:VEVENT
DTSTART;TZID=America/Vancouver:20140602T080000
DTEND;TZID=America/Vancouver:20140602T170000
DTSTAMP:20260422T145005
CREATED:20140502T210956Z
LAST-MODIFIED:20140502T211517Z
UID:1968-1401696000-1401728400@mckenzie.sd61.bc.ca
SUMMARY:Science Ventures
DESCRIPTION:
URL:https://mckenzie.sd61.bc.ca/calendar-event/science-ventures/
END:VEVENT
BEGIN:VEVENT
DTSTART;TZID=America/Vancouver:20140530T163000
DTEND;TZID=America/Vancouver:20140530T190000
DTSTAMP:20260422T145005
CREATED:20140121T175626Z
LAST-MODIFIED:20140121T175626Z
UID:1730-1401467400-1401476400@mckenzie.sd61.bc.ca
SUMMARY:Spring Fair
DESCRIPTION:
URL:https://mckenzie.sd61.bc.ca/calendar-event/spring-fair/
END:VEVENT
BEGIN:VEVENT
DTSTART;TZID=America/Vancouver:20140530T143000
DTEND;TZID=America/Vancouver:20140530T160000
DTSTAMP:20260422T145005
CREATED:20140121T175527Z
LAST-MODIFIED:20140526T220905Z
UID:1729-1401460200-1401465600@mckenzie.sd61.bc.ca
SUMMARY:Kindergarten Open House
DESCRIPTION:
URL:https://mckenzie.sd61.bc.ca/calendar-event/kindergarten-open-house/
END:VEVENT
BEGIN:VEVENT
DTSTART;TZID=America/Vancouver:20140527T180000
DTEND;TZID=America/Vancouver:20140527T180000
DTSTAMP:20260422T145005
CREATED:20140121T180917Z
LAST-MODIFIED:20140123T185038Z
UID:1745-1401213600-1401213600@mckenzie.sd61.bc.ca
SUMMARY:City Track Finals
DESCRIPTION:
URL:https://mckenzie.sd61.bc.ca/calendar-event/city-track-finals/
END:VEVENT
BEGIN:VEVENT
DTSTART;TZID=America/Vancouver:20140526T134500
DTEND;TZID=America/Vancouver:20140526T134500
DTSTAMP:20260422T145005
CREATED:20140121T175434Z
LAST-MODIFIED:20140121T175434Z
UID:1728-1401111900-1401111900@mckenzie.sd61.bc.ca
SUMMARY:Assembly
DESCRIPTION:
URL:https://mckenzie.sd61.bc.ca/calendar-event/assembly-2/
END:VEVENT
BEGIN:VEVENT
DTSTART;VALUE=DATE:20140523
DTEND;VALUE=DATE:20140524
DTSTAMP:20260422T145005
CREATED:20140121T180830Z
LAST-MODIFIED:20140121T180830Z
UID:1744-1400803200-1400889599@mckenzie.sd61.bc.ca
SUMMARY:Track Meet @ U-Vic
DESCRIPTION:
URL:https://mckenzie.sd61.bc.ca/calendar-event/track-meet-u-vic/
END:VEVENT
BEGIN:VEVENT
DTSTART;TZID=America/Vancouver:20140521T120000
DTEND;TZID=America/Vancouver:20140521T120000
DTSTAMP:20260422T145005
CREATED:20140121T175108Z
LAST-MODIFIED:20140509T212647Z
UID:1726-1400673600-1400673600@mckenzie.sd61.bc.ca
SUMMARY:Special Food Day
DESCRIPTION:
URL:https://mckenzie.sd61.bc.ca/calendar-event/special-food-day-7/
END:VEVENT
BEGIN:VEVENT
DTSTART;VALUE=DATE:20140519
DTEND;VALUE=DATE:20140520
DTSTAMP:20260422T145005
CREATED:20140121T174921Z
LAST-MODIFIED:20140121T174921Z
UID:1722-1400457600-1400543999@mckenzie.sd61.bc.ca
SUMMARY:Victoria Day
DESCRIPTION:
URL:https://mckenzie.sd61.bc.ca/calendar-event/victoria-day/
END:VEVENT
BEGIN:VEVENT
DTSTART;VALUE=DATE:20140516
DTEND;VALUE=DATE:20140517
DTSTAMP:20260422T145005
CREATED:20140121T174902Z
LAST-MODIFIED:20140121T174902Z
UID:1721-1400198400-1400284799@mckenzie.sd61.bc.ca
SUMMARY:Pro D Day (school not in session)
DESCRIPTION:
URL:https://mckenzie.sd61.bc.ca/calendar-event/pro-d-day-school-not-in-session-5/
END:VEVENT
BEGIN:VEVENT
DTSTART;TZID=America/Vancouver:20140515T123000
DTEND;TZID=America/Vancouver:20140515T150000
DTSTAMP:20260422T145005
CREATED:20140502T210727Z
LAST-MODIFIED:20140502T210727Z
UID:1967-1400157000-1400166000@mckenzie.sd61.bc.ca
SUMMARY:Grade 5 Transition Day
DESCRIPTION:
URL:https://mckenzie.sd61.bc.ca/calendar-event/grade-5-transition-day/
END:VEVENT
BEGIN:VEVENT
DTSTART;TZID=America/Vancouver:20140514T183000
DTEND;TZID=America/Vancouver:20140514T183000
DTSTAMP:20260422T145005
CREATED:20140121T174816Z
LAST-MODIFIED:20140121T174816Z
UID:1720-1400092200-1400092200@mckenzie.sd61.bc.ca
SUMMARY:PAC Meeting
DESCRIPTION:
URL:https://mckenzie.sd61.bc.ca/calendar-event/pac-meeting-4/
END:VEVENT
BEGIN:VEVENT
DTSTART;TZID=America/Vancouver:20140514T080000
DTEND;TZID=America/Vancouver:20140514T080000
DTSTAMP:20260422T145005
CREATED:20140502T210618Z
LAST-MODIFIED:20140502T210618Z
UID:1966-1400054400-1400054400@mckenzie.sd61.bc.ca
SUMMARY:Saanich Emergency Training Gr. 4's
DESCRIPTION:
URL:https://mckenzie.sd61.bc.ca/calendar-event/saanich-emergency-training-gr-4s/
END:VEVENT
BEGIN:VEVENT
DTSTART;TZID=America/Vancouver:20140513T090000
DTEND;TZID=America/Vancouver:20140513T090000
DTSTAMP:20260422T145005
CREATED:20140121T174744Z
LAST-MODIFIED:20140121T174744Z
UID:1719-1399971600-1399971600@mckenzie.sd61.bc.ca
SUMMARY:Class Photo Day
DESCRIPTION:
URL:https://mckenzie.sd61.bc.ca/calendar-event/class-photo-day/
END:VEVENT
BEGIN:VEVENT
DTSTART;TZID=America/Vancouver:20140509T110000
DTEND;TZID=America/Vancouver:20140509T143000
DTSTAMP:20260422T145005
CREATED:20140502T210523Z
LAST-MODIFIED:20140502T210523Z
UID:1965-1399633200-1399645800@mckenzie.sd61.bc.ca
SUMMARY:Rugby Tournament @ Gordon Head
DESCRIPTION:
URL:https://mckenzie.sd61.bc.ca/calendar-event/rugby-tournament-gordon-head/
END:VEVENT
BEGIN:VEVENT
DTSTART;TZID=America/Vancouver:20140508T120000
DTEND;TZID=America/Vancouver:20140508T120000
DTSTAMP:20260422T145005
CREATED:20140502T210413Z
LAST-MODIFIED:20140502T210413Z
UID:1964-1399550400-1399550400@mckenzie.sd61.bc.ca
SUMMARY:Staff Appreciation Lunch
DESCRIPTION:
URL:https://mckenzie.sd61.bc.ca/calendar-event/staff-appreciation-lunch/
END:VEVENT
BEGIN:VEVENT
DTSTART;TZID=America/Vancouver:20140502T083000
DTEND;TZID=America/Vancouver:20140502T083000
DTSTAMP:20260422T145005
CREATED:20140121T174657Z
LAST-MODIFIED:20140121T174657Z
UID:1718-1399019400-1399019400@mckenzie.sd61.bc.ca
SUMMARY:Family Pancake Breakfast
DESCRIPTION:
URL:https://mckenzie.sd61.bc.ca/calendar-event/family-pancake-breakfast/
END:VEVENT
BEGIN:VEVENT
DTSTART;TZID=America/Vancouver:20140428T134500
DTEND;TZID=America/Vancouver:20140428T134500
DTSTAMP:20260422T145005
CREATED:20140121T174609Z
LAST-MODIFIED:20140121T174609Z
UID:1717-1398692700-1398692700@mckenzie.sd61.bc.ca
SUMMARY:Assembly
DESCRIPTION:
URL:https://mckenzie.sd61.bc.ca/calendar-event/assembly/
END:VEVENT
BEGIN:VEVENT
DTSTART;VALUE=DATE:20140421
DTEND;VALUE=DATE:20140422
DTSTAMP:20260422T145005
CREATED:20140121T174511Z
LAST-MODIFIED:20140121T174511Z
UID:1715-1398038400-1398124799@mckenzie.sd61.bc.ca
SUMMARY:Easter Monday
DESCRIPTION:
URL:https://mckenzie.sd61.bc.ca/calendar-event/easter-monday/
END:VEVENT
BEGIN:VEVENT
DTSTART;VALUE=DATE:20140420
DTEND;VALUE=DATE:20140421
DTSTAMP:20260422T145005
CREATED:20140121T174534Z
LAST-MODIFIED:20140121T174534Z
UID:1716-1397952000-1398038399@mckenzie.sd61.bc.ca
SUMMARY:Easter
DESCRIPTION:
URL:https://mckenzie.sd61.bc.ca/calendar-event/easter/
END:VEVENT
BEGIN:VEVENT
DTSTART;VALUE=DATE:20140418
DTEND;VALUE=DATE:20140419
DTSTAMP:20260422T145005
CREATED:20140121T174452Z
LAST-MODIFIED:20140121T174452Z
UID:1714-1397779200-1397865599@mckenzie.sd61.bc.ca
SUMMARY:Good Friday
DESCRIPTION:
URL:https://mckenzie.sd61.bc.ca/calendar-event/good-friday/
END:VEVENT
BEGIN:VEVENT
DTSTART;TZID=America/Vancouver:20140417T130000
DTEND;TZID=America/Vancouver:20140417T130000
DTSTAMP:20260422T145005
CREATED:20140121T174223Z
LAST-MODIFIED:20140327T203157Z
UID:1712-1397739600-1397739600@mckenzie.sd61.bc.ca
SUMMARY:MUSICAL PERFORMANCE Doors 12:30 pm
DESCRIPTION:
URL:https://mckenzie.sd61.bc.ca/calendar-event/musical-perfomance/
END:VEVENT
BEGIN:VEVENT
DTSTART;TZID=America/Vancouver:20140416T130000
DTEND;TZID=America/Vancouver:20140416T130000
DTSTAMP:20260422T145005
CREATED:20140121T174427Z
LAST-MODIFIED:20140327T203119Z
UID:1713-1397653200-1397653200@mckenzie.sd61.bc.ca
SUMMARY:MUSICAL PERFORMANCE  Doors 12:30 pm
DESCRIPTION:
URL:https://mckenzie.sd61.bc.ca/calendar-event/musical-performance/
END:VEVENT
BEGIN:VEVENT
DTSTART;TZID=America/Vancouver:20140415T123000
DTEND;TZID=America/Vancouver:20140415T123000
DTSTAMP:20260422T145005
CREATED:20140327T203008Z
LAST-MODIFIED:20140327T203008Z
UID:1872-1397565000-1397565000@mckenzie.sd61.bc.ca
SUMMARY:Musical Dress Rehearsal
DESCRIPTION:
URL:https://mckenzie.sd61.bc.ca/calendar-event/musical-dress-rehearsal/
END:VEVENT
BEGIN:VEVENT
DTSTART;TZID=America/Vancouver:20140411T120000
DTEND;TZID=America/Vancouver:20140411T120000
DTSTAMP:20260422T145005
CREATED:20140121T174012Z
LAST-MODIFIED:20140121T174012Z
UID:1710-1397217600-1397217600@mckenzie.sd61.bc.ca
SUMMARY:Special Food Day
DESCRIPTION:
URL:https://mckenzie.sd61.bc.ca/calendar-event/special-food-day-6/
END:VEVENT
END:VCALENDAR