BEGIN:VCALENDAR
VERSION:2.0
PRODID:-//McKenzie Elementary - ECPv6.2.8.1//NONSGML v1.0//EN
CALSCALE:GREGORIAN
METHOD:PUBLISH
X-WR-CALNAME:McKenzie Elementary
X-ORIGINAL-URL:https://mckenzie.sd61.bc.ca
X-WR-CALDESC:Events for McKenzie Elementary
REFRESH-INTERVAL;VALUE=DURATION:PT1H
X-Robots-Tag:noindex
X-PUBLISHED-TTL:PT1H
BEGIN:VTIMEZONE
TZID:America/Vancouver
BEGIN:DAYLIGHT
TZOFFSETFROM:-0800
TZOFFSETTO:-0700
TZNAME:PDT
DTSTART:20130310T100000
END:DAYLIGHT
BEGIN:STANDARD
TZOFFSETFROM:-0700
TZOFFSETTO:-0800
TZNAME:PST
DTSTART:20131103T090000
END:STANDARD
BEGIN:DAYLIGHT
TZOFFSETFROM:-0800
TZOFFSETTO:-0700
TZNAME:PDT
DTSTART:20140309T100000
END:DAYLIGHT
BEGIN:STANDARD
TZOFFSETFROM:-0700
TZOFFSETTO:-0800
TZNAME:PST
DTSTART:20141102T090000
END:STANDARD
END:VTIMEZONE
BEGIN:VEVENT
DTSTART;VALUE=DATE:20140214
DTEND;VALUE=DATE:20140215
DTSTAMP:20260422T233840
CREATED:20131024T172913Z
LAST-MODIFIED:20131024T172913Z
UID:1300-1392336000-1392422399@mckenzie.sd61.bc.ca
SUMMARY:Red & Pink Day
DESCRIPTION:
URL:https://mckenzie.sd61.bc.ca/calendar-event/red-pink-day/
END:VEVENT
BEGIN:VEVENT
DTSTART;TZID=America/Vancouver:20140213T170000
DTEND;TZID=America/Vancouver:20140213T200000
DTSTAMP:20260422T233840
CREATED:20131024T173344Z
LAST-MODIFIED:20140206T184638Z
UID:1305-1392310800-1392321600@mckenzie.sd61.bc.ca
SUMMARY:Bingo-Movie Night  5:30-8 pm
DESCRIPTION:
URL:https://mckenzie.sd61.bc.ca/calendar-event/bingo-movie-night-530-8-pm/
END:VEVENT
BEGIN:VEVENT
DTSTART;TZID=America/Vancouver:20140212T183000
DTEND;TZID=America/Vancouver:20140212T183000
DTSTAMP:20260422T233840
CREATED:20131024T172848Z
LAST-MODIFIED:20131024T172848Z
UID:1299-1392229800-1392229800@mckenzie.sd61.bc.ca
SUMMARY:PAC Meeting 6:30 pm
DESCRIPTION:
URL:https://mckenzie.sd61.bc.ca/calendar-event/pac-meeting-630-pm/
END:VEVENT
BEGIN:VEVENT
DTSTART;VALUE=DATE:20140210
DTEND;VALUE=DATE:20140211
DTSTAMP:20260422T233840
CREATED:20131024T172759Z
LAST-MODIFIED:20131024T172759Z
UID:1298-1391990400-1392076799@mckenzie.sd61.bc.ca
SUMMARY:BC Family Day - school not in session
DESCRIPTION:
URL:https://mckenzie.sd61.bc.ca/calendar-event/bc-family-day-school-not-in-session/
END:VEVENT
BEGIN:VEVENT
DTSTART;TZID=America/Vancouver:20140207T120000
DTEND;TZID=America/Vancouver:20140207T120000
DTSTAMP:20260422T233840
CREATED:20131024T172709Z
LAST-MODIFIED:20131024T172709Z
UID:1297-1391774400-1391774400@mckenzie.sd61.bc.ca
SUMMARY:Special Food Day
DESCRIPTION:
URL:https://mckenzie.sd61.bc.ca/calendar-event/special-food-day-4/
END:VEVENT
BEGIN:VEVENT
DTSTART;TZID=America/Vancouver:20140206T120000
DTEND;TZID=America/Vancouver:20140206T120000
DTSTAMP:20260422T233840
CREATED:20131024T172633Z
LAST-MODIFIED:20131024T172633Z
UID:1296-1391688000-1391688000@mckenzie.sd61.bc.ca
SUMMARY:Student Led Conferences - 11:57 dismissal
DESCRIPTION:
URL:https://mckenzie.sd61.bc.ca/calendar-event/student-led-conferences-1157-dismissal/
END:VEVENT
BEGIN:VEVENT
DTSTART;TZID=America/Vancouver:20140203T004000
DTEND;TZID=America/Vancouver:20140203T124000
DTSTAMP:20260422T233840
CREATED:20140121T180558Z
LAST-MODIFIED:20140123T175846Z
UID:1743-1391388000-1391431200@mckenzie.sd61.bc.ca
SUMMARY:David Bouchard - Visiting Author
DESCRIPTION:
URL:https://mckenzie.sd61.bc.ca/calendar-event/more-than-words-performance/
END:VEVENT
BEGIN:VEVENT
DTSTART;VALUE=DATE:20140203
DTEND;VALUE=DATE:20140208
DTSTAMP:20260422T233840
CREATED:20131024T172534Z
LAST-MODIFIED:20131024T172534Z
UID:1295-1391385600-1391817599@mckenzie.sd61.bc.ca
SUMMARY:READING WEEK - BOOK FAIR WEEK
DESCRIPTION:
URL:https://mckenzie.sd61.bc.ca/calendar-event/reading-week-book-fair-week/
END:VEVENT
BEGIN:VEVENT
DTSTART;TZID=America/Vancouver:20140127T134500
DTEND;TZID=America/Vancouver:20140127T134500
DTSTAMP:20260422T233840
CREATED:20131024T170034Z
LAST-MODIFIED:20131024T170034Z
UID:1293-1390830300-1390830300@mckenzie.sd61.bc.ca
SUMMARY:Assembly - 1:45 pm
DESCRIPTION:
URL:https://mckenzie.sd61.bc.ca/calendar-event/assembly-145-pm/
END:VEVENT
BEGIN:VEVENT
DTSTART;VALUE=DATE:20140127
DTEND;VALUE=DATE:20140201
DTSTAMP:20260422T233840
CREATED:20130124T180124Z
LAST-MODIFIED:20131024T170347Z
UID:1294-1390780800-1391212799@mckenzie.sd61.bc.ca
SUMMARY:KINDERGARTEN REGISTRATION WEEK   Jan. 27- 31
DESCRIPTION:
URL:https://mckenzie.sd61.bc.ca/calendar-event/kindergarten-registration-week/
END:VEVENT
BEGIN:VEVENT
DTSTART;VALUE=DATE:20140124
DTEND;VALUE=DATE:20140125
DTSTAMP:20260422T233840
CREATED:20131024T165615Z
LAST-MODIFIED:20131024T165917Z
UID:1292-1390521600-1390607999@mckenzie.sd61.bc.ca
SUMMARY:Pro D Day - school not in session
DESCRIPTION:School not in session.
URL:https://mckenzie.sd61.bc.ca/calendar-event/family-dance-600-pm/
END:VEVENT
BEGIN:VEVENT
DTSTART;TZID=America/Vancouver:20140123T180000
DTEND;TZID=America/Vancouver:20140123T193000
DTSTAMP:20260422T233840
CREATED:20140120T234220Z
LAST-MODIFIED:20140120T234220Z
UID:1708-1390500000-1390505400@mckenzie.sd61.bc.ca
SUMMARY:Family Dance
DESCRIPTION:
URL:https://mckenzie.sd61.bc.ca/calendar-event/family-dance/
END:VEVENT
BEGIN:VEVENT
DTSTART;TZID=America/Vancouver:20140117T120000
DTEND;TZID=America/Vancouver:20140117T120000
DTSTAMP:20260422T233840
CREATED:20131024T165511Z
LAST-MODIFIED:20131024T165511Z
UID:1291-1389960000-1389960000@mckenzie.sd61.bc.ca
SUMMARY:Special Food Day
DESCRIPTION:
URL:https://mckenzie.sd61.bc.ca/calendar-event/special-food-day/
END:VEVENT
BEGIN:VEVENT
DTSTART;TZID=America/Vancouver:20140115T183000
DTEND;TZID=America/Vancouver:20140115T183000
DTSTAMP:20260422T233840
CREATED:20131024T165435Z
LAST-MODIFIED:20131024T165435Z
UID:1290-1389810600-1389810600@mckenzie.sd61.bc.ca
SUMMARY:PAC meeting
DESCRIPTION:
URL:https://mckenzie.sd61.bc.ca/calendar-event/pac-meeting/
END:VEVENT
BEGIN:VEVENT
DTSTART;VALUE=DATE:20140110
DTEND;VALUE=DATE:20140111
DTSTAMP:20260422T233840
CREATED:20131024T165039Z
LAST-MODIFIED:20131024T165138Z
UID:1288-1389312000-1389398399@mckenzie.sd61.bc.ca
SUMMARY:Special food order forms home today
DESCRIPTION:
URL:https://mckenzie.sd61.bc.ca/calendar-event/school-reopens-today/
END:VEVENT
BEGIN:VEVENT
DTSTART;VALUE=DATE:20140106
DTEND;VALUE=DATE:20140107
DTSTAMP:20260422T233840
CREATED:20131024T165307Z
LAST-MODIFIED:20131024T165307Z
UID:1289-1388966400-1389052799@mckenzie.sd61.bc.ca
SUMMARY:School reopens today
DESCRIPTION:
URL:https://mckenzie.sd61.bc.ca/calendar-event/school-reopens-today-2/
END:VEVENT
BEGIN:VEVENT
DTSTART;VALUE=DATE:20131223
DTEND;VALUE=DATE:20131224
DTSTAMP:20260422T233840
CREATED:20130917T193651Z
LAST-MODIFIED:20130917T215948Z
UID:1155-1387756800-1387843199@mckenzie.sd61.bc.ca
SUMMARY:Winter Break Starts Today
DESCRIPTION:
URL:https://mckenzie.sd61.bc.ca/calendar-event/winter-break-dec-23rd-jan-3rd/
END:VEVENT
BEGIN:VEVENT
DTSTART;TZID=America/Vancouver:20131218T114500
DTEND;TZID=America/Vancouver:20131218T234500
DTSTAMP:20260422T233840
CREATED:20131118T173212Z
LAST-MODIFIED:20131118T173331Z
UID:1394-1387367100-1387410300@mckenzie.sd61.bc.ca
SUMMARY:Choir at The Victorian at McKenzie
DESCRIPTION:
URL:https://mckenzie.sd61.bc.ca/calendar-event/choir-at-the-victorian-at-mckenzie/
END:VEVENT
BEGIN:VEVENT
DTSTART;TZID=America/Vancouver:20131216T083000
DTEND;TZID=America/Vancouver:20131220T083000
DTSTAMP:20260422T233840
CREATED:20130917T193454Z
LAST-MODIFIED:20130917T193514Z
UID:1154-1387182600-1387528200@mckenzie.sd61.bc.ca
SUMMARY:Caroling with Ms. Brigidear Dec. 16th - 20th
DESCRIPTION:
URL:https://mckenzie.sd61.bc.ca/calendar-event/caroling-with-ms-brigidear-dec-16th-20th/
END:VEVENT
BEGIN:VEVENT
DTSTART;VALUE=DATE:20131216
DTEND;VALUE=DATE:20131217
DTSTAMP:20260422T233840
CREATED:20130917T193330Z
LAST-MODIFIED:20130917T193330Z
UID:1153-1387152000-1387238399@mckenzie.sd61.bc.ca
SUMMARY:Recognition Assembly  1:45 pm
DESCRIPTION:
URL:https://mckenzie.sd61.bc.ca/calendar-event/recognition-assembly-145-pm-2/
END:VEVENT
BEGIN:VEVENT
DTSTART;VALUE=DATE:20131213
DTEND;VALUE=DATE:20131214
DTSTAMP:20260422T233840
CREATED:20130917T193300Z
LAST-MODIFIED:20130917T193300Z
UID:1152-1386892800-1386979199@mckenzie.sd61.bc.ca
SUMMARY:Special Food Day
DESCRIPTION:
URL:https://mckenzie.sd61.bc.ca/calendar-event/special-food-day-3/
END:VEVENT
BEGIN:VEVENT
DTSTART;TZID=America/Vancouver:20131212T120000
DTEND;TZID=America/Vancouver:20131212T120000
DTSTAMP:20260422T233840
CREATED:20131118T173115Z
LAST-MODIFIED:20131118T173434Z
UID:1393-1386849600-1386849600@mckenzie.sd61.bc.ca
SUMMARY:Choir at Airport & Gorge Hospital
DESCRIPTION:
URL:https://mckenzie.sd61.bc.ca/calendar-event/choir-at-airport-gorge-hospital/
END:VEVENT
BEGIN:VEVENT
DTSTART;VALUE=DATE:20131212
DTEND;VALUE=DATE:20131213
DTSTAMP:20260422T233840
CREATED:20130917T193235Z
LAST-MODIFIED:20130917T193235Z
UID:1151-1386806400-1386892799@mckenzie.sd61.bc.ca
SUMMARY:Craft & Carol Night
DESCRIPTION:
URL:https://mckenzie.sd61.bc.ca/calendar-event/craft-carol-night/
END:VEVENT
BEGIN:VEVENT
DTSTART;VALUE=DATE:20131211
DTEND;VALUE=DATE:20131212
DTSTAMP:20260422T233840
CREATED:20130917T193157Z
LAST-MODIFIED:20130917T193157Z
UID:1150-1386720000-1386806399@mckenzie.sd61.bc.ca
SUMMARY:PAC Meeting 6:30 pm
DESCRIPTION:
URL:https://mckenzie.sd61.bc.ca/calendar-event/pac-meeting-630-pm-3/
END:VEVENT
BEGIN:VEVENT
DTSTART;TZID=America/Vancouver:20131204T122500
DTEND;TZID=America/Vancouver:20131204T122500
DTSTAMP:20260422T233840
CREATED:20131118T172547Z
LAST-MODIFIED:20131118T173602Z
UID:1392-1386159900-1386159900@mckenzie.sd61.bc.ca
SUMMARY:Choir at Victoria City Hall
DESCRIPTION:
URL:https://mckenzie.sd61.bc.ca/calendar-event/choir-at-victoria-city-hall/
END:VEVENT
BEGIN:VEVENT
DTSTART;VALUE=DATE:20131202
DTEND;VALUE=DATE:20131207
DTSTAMP:20260422T233840
CREATED:20130917T193124Z
LAST-MODIFIED:20130917T193124Z
UID:1149-1385942400-1386374399@mckenzie.sd61.bc.ca
SUMMARY:Santa Shoppe Dec. 2nd - 6th
DESCRIPTION:
URL:https://mckenzie.sd61.bc.ca/calendar-event/santa-shoppe-dec-2nd-6th/
END:VEVENT
BEGIN:VEVENT
DTSTART;VALUE=DATE:20131129
DTEND;VALUE=DATE:20131130
DTSTAMP:20260422T233840
CREATED:20130917T192906Z
LAST-MODIFIED:20130917T192906Z
UID:1148-1385683200-1385769599@mckenzie.sd61.bc.ca
SUMMARY:Report Cards home today
DESCRIPTION:
URL:https://mckenzie.sd61.bc.ca/calendar-event/report-cards-home-today/
END:VEVENT
BEGIN:VEVENT
DTSTART;VALUE=DATE:20131126
DTEND;VALUE=DATE:20131127
DTSTAMP:20260422T233840
CREATED:20130917T192838Z
LAST-MODIFIED:20130917T192838Z
UID:1147-1385424000-1385510399@mckenzie.sd61.bc.ca
SUMMARY:Mad Science  2:55 pm
DESCRIPTION:
URL:https://mckenzie.sd61.bc.ca/calendar-event/mad-science-255-pm-4/
END:VEVENT
BEGIN:VEVENT
DTSTART;TZID=America/Vancouver:20131125T080000
DTEND;TZID=America/Vancouver:20131125T170000
DTSTAMP:20260422T233840
CREATED:20130917T192812Z
LAST-MODIFIED:20130917T192812Z
UID:1146-1385366400-1385398800@mckenzie.sd61.bc.ca
SUMMARY:Recognition Assembly 1:45 pm
DESCRIPTION:
URL:https://mckenzie.sd61.bc.ca/calendar-event/recognition-assembly-145-pm/
END:VEVENT
BEGIN:VEVENT
DTSTART;VALUE=DATE:20131122
DTEND;VALUE=DATE:20131123
DTSTAMP:20260422T233840
CREATED:20130917T192740Z
LAST-MODIFIED:20130917T192740Z
UID:1145-1385078400-1385164799@mckenzie.sd61.bc.ca
SUMMARY:Pro-D Day (school not in session)
DESCRIPTION:
URL:https://mckenzie.sd61.bc.ca/calendar-event/pro-d-day-school-not-in-session-3/
END:VEVENT
END:VCALENDAR