BEGIN:VCALENDAR
VERSION:2.0
PRODID:-//McKenzie Elementary - ECPv6.2.8.1//NONSGML v1.0//EN
CALSCALE:GREGORIAN
METHOD:PUBLISH
X-WR-CALNAME:McKenzie Elementary
X-ORIGINAL-URL:https://mckenzie.sd61.bc.ca
X-WR-CALDESC:Events for McKenzie Elementary
REFRESH-INTERVAL;VALUE=DURATION:PT1H
X-Robots-Tag:noindex
X-PUBLISHED-TTL:PT1H
BEGIN:VTIMEZONE
TZID:America/Vancouver
BEGIN:DAYLIGHT
TZOFFSETFROM:-0800
TZOFFSETTO:-0700
TZNAME:PDT
DTSTART:20130310T100000
END:DAYLIGHT
BEGIN:STANDARD
TZOFFSETFROM:-0700
TZOFFSETTO:-0800
TZNAME:PST
DTSTART:20131103T090000
END:STANDARD
END:VTIMEZONE
BEGIN:VEVENT
DTSTART;VALUE=DATE:20131216
DTEND;VALUE=DATE:20131217
DTSTAMP:20260424T192847
CREATED:20130917T193330Z
LAST-MODIFIED:20130917T193330Z
UID:1153-1387152000-1387238399@mckenzie.sd61.bc.ca
SUMMARY:Recognition Assembly  1:45 pm
DESCRIPTION:
URL:https://mckenzie.sd61.bc.ca/calendar-event/recognition-assembly-145-pm-2/
END:VEVENT
BEGIN:VEVENT
DTSTART;VALUE=DATE:20131213
DTEND;VALUE=DATE:20131214
DTSTAMP:20260424T192847
CREATED:20130917T193300Z
LAST-MODIFIED:20130917T193300Z
UID:1152-1386892800-1386979199@mckenzie.sd61.bc.ca
SUMMARY:Special Food Day
DESCRIPTION:
URL:https://mckenzie.sd61.bc.ca/calendar-event/special-food-day-3/
END:VEVENT
BEGIN:VEVENT
DTSTART;TZID=America/Vancouver:20131212T120000
DTEND;TZID=America/Vancouver:20131212T120000
DTSTAMP:20260424T192847
CREATED:20131118T173115Z
LAST-MODIFIED:20131118T173434Z
UID:1393-1386849600-1386849600@mckenzie.sd61.bc.ca
SUMMARY:Choir at Airport & Gorge Hospital
DESCRIPTION:
URL:https://mckenzie.sd61.bc.ca/calendar-event/choir-at-airport-gorge-hospital/
END:VEVENT
BEGIN:VEVENT
DTSTART;VALUE=DATE:20131212
DTEND;VALUE=DATE:20131213
DTSTAMP:20260424T192847
CREATED:20130917T193235Z
LAST-MODIFIED:20130917T193235Z
UID:1151-1386806400-1386892799@mckenzie.sd61.bc.ca
SUMMARY:Craft & Carol Night
DESCRIPTION:
URL:https://mckenzie.sd61.bc.ca/calendar-event/craft-carol-night/
END:VEVENT
BEGIN:VEVENT
DTSTART;VALUE=DATE:20131211
DTEND;VALUE=DATE:20131212
DTSTAMP:20260424T192847
CREATED:20130917T193157Z
LAST-MODIFIED:20130917T193157Z
UID:1150-1386720000-1386806399@mckenzie.sd61.bc.ca
SUMMARY:PAC Meeting 6:30 pm
DESCRIPTION:
URL:https://mckenzie.sd61.bc.ca/calendar-event/pac-meeting-630-pm-3/
END:VEVENT
BEGIN:VEVENT
DTSTART;TZID=America/Vancouver:20131204T122500
DTEND;TZID=America/Vancouver:20131204T122500
DTSTAMP:20260424T192847
CREATED:20131118T172547Z
LAST-MODIFIED:20131118T173602Z
UID:1392-1386159900-1386159900@mckenzie.sd61.bc.ca
SUMMARY:Choir at Victoria City Hall
DESCRIPTION:
URL:https://mckenzie.sd61.bc.ca/calendar-event/choir-at-victoria-city-hall/
END:VEVENT
BEGIN:VEVENT
DTSTART;VALUE=DATE:20131202
DTEND;VALUE=DATE:20131207
DTSTAMP:20260424T192847
CREATED:20130917T193124Z
LAST-MODIFIED:20130917T193124Z
UID:1149-1385942400-1386374399@mckenzie.sd61.bc.ca
SUMMARY:Santa Shoppe Dec. 2nd - 6th
DESCRIPTION:
URL:https://mckenzie.sd61.bc.ca/calendar-event/santa-shoppe-dec-2nd-6th/
END:VEVENT
BEGIN:VEVENT
DTSTART;VALUE=DATE:20131129
DTEND;VALUE=DATE:20131130
DTSTAMP:20260424T192847
CREATED:20130917T192906Z
LAST-MODIFIED:20130917T192906Z
UID:1148-1385683200-1385769599@mckenzie.sd61.bc.ca
SUMMARY:Report Cards home today
DESCRIPTION:
URL:https://mckenzie.sd61.bc.ca/calendar-event/report-cards-home-today/
END:VEVENT
BEGIN:VEVENT
DTSTART;VALUE=DATE:20131126
DTEND;VALUE=DATE:20131127
DTSTAMP:20260424T192847
CREATED:20130917T192838Z
LAST-MODIFIED:20130917T192838Z
UID:1147-1385424000-1385510399@mckenzie.sd61.bc.ca
SUMMARY:Mad Science  2:55 pm
DESCRIPTION:
URL:https://mckenzie.sd61.bc.ca/calendar-event/mad-science-255-pm-4/
END:VEVENT
BEGIN:VEVENT
DTSTART;TZID=America/Vancouver:20131125T080000
DTEND;TZID=America/Vancouver:20131125T170000
DTSTAMP:20260424T192847
CREATED:20130917T192812Z
LAST-MODIFIED:20130917T192812Z
UID:1146-1385366400-1385398800@mckenzie.sd61.bc.ca
SUMMARY:Recognition Assembly 1:45 pm
DESCRIPTION:
URL:https://mckenzie.sd61.bc.ca/calendar-event/recognition-assembly-145-pm/
END:VEVENT
BEGIN:VEVENT
DTSTART;VALUE=DATE:20131122
DTEND;VALUE=DATE:20131123
DTSTAMP:20260424T192847
CREATED:20130917T192740Z
LAST-MODIFIED:20130917T192740Z
UID:1145-1385078400-1385164799@mckenzie.sd61.bc.ca
SUMMARY:Pro-D Day (school not in session)
DESCRIPTION:
URL:https://mckenzie.sd61.bc.ca/calendar-event/pro-d-day-school-not-in-session-3/
END:VEVENT
BEGIN:VEVENT
DTSTART;TZID=America/Vancouver:20131121T170000
DTEND;TZID=America/Vancouver:20131121T170000
DTSTAMP:20260424T192847
CREATED:20131017T162409Z
LAST-MODIFIED:20131017T162441Z
UID:1219-1385053200-1385053200@mckenzie.sd61.bc.ca
SUMMARY:Family Movie & Discovery Toys Shopping Night  5:00 pm
DESCRIPTION:
URL:https://mckenzie.sd61.bc.ca/calendar-event/november-21-family-movie-discovery-toys-shopping-night-500-pm/
END:VEVENT
BEGIN:VEVENT
DTSTART;TZID=America/Vancouver:20131119T110000
DTEND;TZID=America/Vancouver:20131119T120000
DTSTAMP:20260424T192847
CREATED:20130830T171935Z
LAST-MODIFIED:20130830T172103Z
UID:1062-1384858800-1384862400@mckenzie.sd61.bc.ca
SUMMARY:Infinitus Performance
DESCRIPTION:
URL:https://mckenzie.sd61.bc.ca/calendar-event/infinitus/
END:VEVENT
BEGIN:VEVENT
DTSTART;VALUE=DATE:20131119
DTEND;VALUE=DATE:20131120
DTSTAMP:20260424T192847
CREATED:20130917T192714Z
LAST-MODIFIED:20130917T192714Z
UID:1144-1384819200-1384905599@mckenzie.sd61.bc.ca
SUMMARY:Mad Science  2:55 pm
DESCRIPTION:
URL:https://mckenzie.sd61.bc.ca/calendar-event/mad-science-255-pm-3/
END:VEVENT
BEGIN:VEVENT
DTSTART;TZID=America/Vancouver:20131113T183000
DTEND;TZID=America/Vancouver:20131113T183000
DTSTAMP:20260424T192847
CREATED:20130917T192621Z
LAST-MODIFIED:20130917T192621Z
UID:1142-1384367400-1384367400@mckenzie.sd61.bc.ca
SUMMARY:PAC Meeting  6:30 pm
DESCRIPTION:
URL:https://mckenzie.sd61.bc.ca/calendar-event/pac-meeting-630-pm-2/
END:VEVENT
BEGIN:VEVENT
DTSTART;VALUE=DATE:20131112
DTEND;VALUE=DATE:20131113
DTSTAMP:20260424T192847
CREATED:20130917T192544Z
LAST-MODIFIED:20130917T192544Z
UID:1141-1384214400-1384300799@mckenzie.sd61.bc.ca
SUMMARY:Mad Science  2:55 pm
DESCRIPTION:
URL:https://mckenzie.sd61.bc.ca/calendar-event/mad-science-255-pm-2/
END:VEVENT
BEGIN:VEVENT
DTSTART;VALUE=DATE:20131111
DTEND;VALUE=DATE:20131112
DTSTAMP:20260424T192847
CREATED:20130917T192422Z
LAST-MODIFIED:20130917T192513Z
UID:1140-1384128000-1384214399@mckenzie.sd61.bc.ca
SUMMARY:Remembrance Day (school not in session)
DESCRIPTION:
URL:https://mckenzie.sd61.bc.ca/calendar-event/remembrance-day-school-not-in-session/
END:VEVENT
BEGIN:VEVENT
DTSTART;TZID=America/Vancouver:20131108T104500
DTEND;TZID=America/Vancouver:20131108T104500
DTSTAMP:20260424T192847
CREATED:20130917T192333Z
LAST-MODIFIED:20130917T192333Z
UID:1139-1383907500-1383907500@mckenzie.sd61.bc.ca
SUMMARY:Remembrance Day Assembly  10:45 am
DESCRIPTION:
URL:https://mckenzie.sd61.bc.ca/calendar-event/remembrance-day-assembly-1045-am/
END:VEVENT
BEGIN:VEVENT
DTSTART;VALUE=DATE:20131105
DTEND;VALUE=DATE:20131106
DTSTAMP:20260424T192847
CREATED:20130917T192241Z
LAST-MODIFIED:20130917T192241Z
UID:1138-1383609600-1383695999@mckenzie.sd61.bc.ca
SUMMARY:Mad Science 2:55 pm
DESCRIPTION:
URL:https://mckenzie.sd61.bc.ca/calendar-event/mad-science-255-pm/
END:VEVENT
BEGIN:VEVENT
DTSTART;VALUE=DATE:20131104
DTEND;VALUE=DATE:20131105
DTSTAMP:20260424T192847
CREATED:20130917T192207Z
LAST-MODIFIED:20130917T192207Z
UID:1137-1383523200-1383609599@mckenzie.sd61.bc.ca
SUMMARY:Photo Retakes
DESCRIPTION:
URL:https://mckenzie.sd61.bc.ca/calendar-event/photo-retakes/
END:VEVENT
BEGIN:VEVENT
DTSTART;VALUE=DATE:20131031
DTEND;VALUE=DATE:20131101
DTSTAMP:20260424T192847
CREATED:20130917T182721Z
LAST-MODIFIED:20130917T183431Z
UID:1126-1383177600-1383263999@mckenzie.sd61.bc.ca
SUMMARY:Orange and Black Day
DESCRIPTION:
URL:https://mckenzie.sd61.bc.ca/calendar-event/october-31st-orange-black-day/
END:VEVENT
BEGIN:VEVENT
DTSTART;TZID=America/Vancouver:20131028T130000
DTEND;TZID=America/Vancouver:20131028T130000
DTSTAMP:20260424T192847
CREATED:20131028T080052Z
LAST-MODIFIED:20130917T183504Z
UID:1125-1382965200-1382965200@mckenzie.sd61.bc.ca
SUMMARY:Cross Country Finals  1:00 pm  Beacon Hill Park
DESCRIPTION:
URL:https://mckenzie.sd61.bc.ca/calendar-event/october-28th-cross-country-finals-100-pm-beacon-hill-park/
END:VEVENT
BEGIN:VEVENT
DTSTART;VALUE=DATE:20131025
DTEND;VALUE=DATE:20131026
DTSTAMP:20260424T192847
CREATED:20131028T070002Z
LAST-MODIFIED:20130917T183532Z
UID:1124-1382659200-1382745599@mckenzie.sd61.bc.ca
SUMMARY:Pro-D Day  (school not in session)
DESCRIPTION:
URL:https://mckenzie.sd61.bc.ca/calendar-event/october-25th-pro-d-day-school-not-in-session/
END:VEVENT
BEGIN:VEVENT
DTSTART;VALUE=DATE:20131025
DTEND;VALUE=DATE:20131026
DTSTAMP:20260424T192847
CREATED:20130917T184538Z
LAST-MODIFIED:20130917T184538Z
UID:1134-1382659200-1382745599@mckenzie.sd61.bc.ca
SUMMARY:Pro-D Day (school not in session)
DESCRIPTION:
URL:https://mckenzie.sd61.bc.ca/calendar-event/pro-d-day-school-not-in-session-2/
END:VEVENT
BEGIN:VEVENT
DTSTART;TZID=America/Vancouver:20131022T151500
DTEND;TZID=America/Vancouver:20131022T151500
DTSTAMP:20260424T192847
CREATED:20130920T191721Z
LAST-MODIFIED:20130920T191721Z
UID:1173-1382454900-1382454900@mckenzie.sd61.bc.ca
SUMMARY:Soccer Jamboree  TBA
DESCRIPTION:
URL:https://mckenzie.sd61.bc.ca/calendar-event/soccer-jamboree-tba/
END:VEVENT
BEGIN:VEVENT
DTSTART;TZID=America/Vancouver:20131021T153000
DTEND;TZID=America/Vancouver:20131021T153000
DTSTAMP:20260424T192847
CREATED:20130917T182520Z
LAST-MODIFIED:20130917T183600Z
UID:1123-1382369400-1382369400@mckenzie.sd61.bc.ca
SUMMARY:Cross Country Meet  3:30 pm  Gorge Park
DESCRIPTION:
URL:https://mckenzie.sd61.bc.ca/calendar-event/october-21st-cross-country-meet-330-pm-gorge-park/
END:VEVENT
BEGIN:VEVENT
DTSTART;TZID=America/Vancouver:20131021T133000
DTEND;TZID=America/Vancouver:20131021T133000
DTSTAMP:20260424T192847
CREATED:20130917T182242Z
LAST-MODIFIED:20130917T183849Z
UID:1122-1382362200-1382362200@mckenzie.sd61.bc.ca
SUMMARY:Recognition Assembly 1:30 pm
DESCRIPTION:
URL:https://mckenzie.sd61.bc.ca/calendar-event/october-21st-recognition-assembly/
END:VEVENT
BEGIN:VEVENT
DTSTART;TZID=America/Vancouver:20131018T120000
DTEND;TZID=America/Vancouver:20131018T120000
DTSTAMP:20260424T192847
CREATED:20130917T181939Z
LAST-MODIFIED:20130917T183633Z
UID:1121-1382097600-1382097600@mckenzie.sd61.bc.ca
SUMMARY:Special Food Day
DESCRIPTION:
URL:https://mckenzie.sd61.bc.ca/calendar-event/october-18th-special-food-day/
END:VEVENT
BEGIN:VEVENT
DTSTART;TZID=America/Vancouver:20131017T151500
DTEND;TZID=America/Vancouver:20131017T151500
DTSTAMP:20260424T192847
CREATED:20130920T191543Z
LAST-MODIFIED:20130920T191543Z
UID:1172-1382022900-1382022900@mckenzie.sd61.bc.ca
SUMMARY:Soccer - Away at Eagle View
DESCRIPTION:
URL:https://mckenzie.sd61.bc.ca/calendar-event/soccer-away-at-eagle-view/
END:VEVENT
BEGIN:VEVENT
DTSTART;VALUE=DATE:20131017
DTEND;VALUE=DATE:20131018
DTSTAMP:20260424T192847
CREATED:20130917T182927Z
LAST-MODIFIED:20130917T183642Z
UID:1127-1381968000-1382054399@mckenzie.sd61.bc.ca
SUMMARY:Earthquake Drill
DESCRIPTION:
URL:https://mckenzie.sd61.bc.ca/calendar-event/october-17th-earthquake-drill/
END:VEVENT
END:VCALENDAR