BEGIN:VCALENDAR
VERSION:2.0
PRODID:-//McKenzie Elementary - ECPv6.2.8.1//NONSGML v1.0//EN
CALSCALE:GREGORIAN
METHOD:PUBLISH
X-WR-CALNAME:McKenzie Elementary
X-ORIGINAL-URL:https://mckenzie.sd61.bc.ca
X-WR-CALDESC:Events for McKenzie Elementary
REFRESH-INTERVAL;VALUE=DURATION:PT1H
X-Robots-Tag:noindex
X-PUBLISHED-TTL:PT1H
BEGIN:VTIMEZONE
TZID:America/Vancouver
BEGIN:DAYLIGHT
TZOFFSETFROM:-0800
TZOFFSETTO:-0700
TZNAME:PDT
DTSTART:20140309T100000
END:DAYLIGHT
BEGIN:STANDARD
TZOFFSETFROM:-0700
TZOFFSETTO:-0800
TZNAME:PST
DTSTART:20141102T090000
END:STANDARD
END:VTIMEZONE
BEGIN:VEVENT
DTSTART;TZID=America/Vancouver:20140428T134500
DTEND;TZID=America/Vancouver:20140428T134500
DTSTAMP:20260422T145005
CREATED:20140121T174609Z
LAST-MODIFIED:20140121T174609Z
UID:1717-1398692700-1398692700@mckenzie.sd61.bc.ca
SUMMARY:Assembly
DESCRIPTION:
URL:https://mckenzie.sd61.bc.ca/calendar-event/assembly/
END:VEVENT
BEGIN:VEVENT
DTSTART;VALUE=DATE:20140421
DTEND;VALUE=DATE:20140422
DTSTAMP:20260422T145005
CREATED:20140121T174511Z
LAST-MODIFIED:20140121T174511Z
UID:1715-1398038400-1398124799@mckenzie.sd61.bc.ca
SUMMARY:Easter Monday
DESCRIPTION:
URL:https://mckenzie.sd61.bc.ca/calendar-event/easter-monday/
END:VEVENT
BEGIN:VEVENT
DTSTART;VALUE=DATE:20140420
DTEND;VALUE=DATE:20140421
DTSTAMP:20260422T145005
CREATED:20140121T174534Z
LAST-MODIFIED:20140121T174534Z
UID:1716-1397952000-1398038399@mckenzie.sd61.bc.ca
SUMMARY:Easter
DESCRIPTION:
URL:https://mckenzie.sd61.bc.ca/calendar-event/easter/
END:VEVENT
BEGIN:VEVENT
DTSTART;VALUE=DATE:20140418
DTEND;VALUE=DATE:20140419
DTSTAMP:20260422T145005
CREATED:20140121T174452Z
LAST-MODIFIED:20140121T174452Z
UID:1714-1397779200-1397865599@mckenzie.sd61.bc.ca
SUMMARY:Good Friday
DESCRIPTION:
URL:https://mckenzie.sd61.bc.ca/calendar-event/good-friday/
END:VEVENT
BEGIN:VEVENT
DTSTART;TZID=America/Vancouver:20140417T130000
DTEND;TZID=America/Vancouver:20140417T130000
DTSTAMP:20260422T145005
CREATED:20140121T174223Z
LAST-MODIFIED:20140327T203157Z
UID:1712-1397739600-1397739600@mckenzie.sd61.bc.ca
SUMMARY:MUSICAL PERFORMANCE Doors 12:30 pm
DESCRIPTION:
URL:https://mckenzie.sd61.bc.ca/calendar-event/musical-perfomance/
END:VEVENT
BEGIN:VEVENT
DTSTART;TZID=America/Vancouver:20140416T130000
DTEND;TZID=America/Vancouver:20140416T130000
DTSTAMP:20260422T145005
CREATED:20140121T174427Z
LAST-MODIFIED:20140327T203119Z
UID:1713-1397653200-1397653200@mckenzie.sd61.bc.ca
SUMMARY:MUSICAL PERFORMANCE  Doors 12:30 pm
DESCRIPTION:
URL:https://mckenzie.sd61.bc.ca/calendar-event/musical-performance/
END:VEVENT
BEGIN:VEVENT
DTSTART;TZID=America/Vancouver:20140415T123000
DTEND;TZID=America/Vancouver:20140415T123000
DTSTAMP:20260422T145005
CREATED:20140327T203008Z
LAST-MODIFIED:20140327T203008Z
UID:1872-1397565000-1397565000@mckenzie.sd61.bc.ca
SUMMARY:Musical Dress Rehearsal
DESCRIPTION:
URL:https://mckenzie.sd61.bc.ca/calendar-event/musical-dress-rehearsal/
END:VEVENT
BEGIN:VEVENT
DTSTART;TZID=America/Vancouver:20140411T120000
DTEND;TZID=America/Vancouver:20140411T120000
DTSTAMP:20260422T145005
CREATED:20140121T174012Z
LAST-MODIFIED:20140121T174012Z
UID:1710-1397217600-1397217600@mckenzie.sd61.bc.ca
SUMMARY:Special Food Day
DESCRIPTION:
URL:https://mckenzie.sd61.bc.ca/calendar-event/special-food-day-6/
END:VEVENT
BEGIN:VEVENT
DTSTART;TZID=America/Vancouver:20140409T183000
DTEND;TZID=America/Vancouver:20140409T183000
DTSTAMP:20260422T145005
CREATED:20140121T174055Z
LAST-MODIFIED:20140121T174055Z
UID:1711-1397068200-1397068200@mckenzie.sd61.bc.ca
SUMMARY:PAC Meeting
DESCRIPTION:
URL:https://mckenzie.sd61.bc.ca/calendar-event/pac-meeting-3/
END:VEVENT
BEGIN:VEVENT
DTSTART;TZID=America/Vancouver:20140407T150000
DTEND;TZID=America/Vancouver:20140407T150000
DTSTAMP:20260422T145005
CREATED:20140327T194222Z
LAST-MODIFIED:20140327T194222Z
UID:1867-1396882800-1396882800@mckenzie.sd61.bc.ca
SUMMARY:Orders for Plants due today
DESCRIPTION:
URL:https://mckenzie.sd61.bc.ca/calendar-event/orders-for-plants-due-today/
END:VEVENT
BEGIN:VEVENT
DTSTART;TZID=America/Vancouver:20140407T080000
DTEND;TZID=America/Vancouver:20140407T080000
DTSTAMP:20260422T145005
CREATED:20140327T202849Z
LAST-MODIFIED:20140327T202849Z
UID:1871-1396857600-1396857600@mckenzie.sd61.bc.ca
SUMMARY:Musical Ticket orders due
DESCRIPTION:
URL:https://mckenzie.sd61.bc.ca/calendar-event/musical-ticket-orders-due/
END:VEVENT
BEGIN:VEVENT
DTSTART;TZID=America/Vancouver:20140401T123000
DTEND;TZID=America/Vancouver:20140401T123000
DTSTAMP:20260422T145005
CREATED:20140121T173741Z
LAST-MODIFIED:20140121T173924Z
UID:1709-1396355400-1396355400@mckenzie.sd61.bc.ca
SUMMARY:Parent Requested Conferences - Early Dismissal 11:57 am
DESCRIPTION:
URL:https://mckenzie.sd61.bc.ca/calendar-event/parent-requested-conferences/
END:VEVENT
BEGIN:VEVENT
DTSTART;TZID=America/Vancouver:20140331T130000
DTEND;TZID=America/Vancouver:20140331T130000
DTSTAMP:20260422T145005
CREATED:20140327T194800Z
LAST-MODIFIED:20140327T194800Z
UID:1868-1396270800-1396270800@mckenzie.sd61.bc.ca
SUMMARY:Victoria Symphony "Heavy Metal"
DESCRIPTION:
URL:https://mckenzie.sd61.bc.ca/calendar-event/victoria-symphony-heavy-metal/
END:VEVENT
BEGIN:VEVENT
DTSTART;TZID=America/Vancouver:20140331T130000
DTEND;TZID=America/Vancouver:20140331T130000
DTSTAMP:20260422T145005
CREATED:20131024T173929Z
LAST-MODIFIED:20140327T194857Z
UID:1311-1396270800-1396270800@mckenzie.sd61.bc.ca
SUMMARY:Assembly  1:45 pm
DESCRIPTION:
URL:https://mckenzie.sd61.bc.ca/calendar-event/assembly-145-pm-3/
END:VEVENT
BEGIN:VEVENT
DTSTART;TZID=America/Vancouver:20140328T150000
DTEND;TZID=America/Vancouver:20140328T150000
DTSTAMP:20260422T145005
CREATED:20140327T195257Z
LAST-MODIFIED:20140327T195257Z
UID:1869-1396018800-1396018800@mckenzie.sd61.bc.ca
SUMMARY:Musical Ticket Order Information home today
DESCRIPTION:
URL:https://mckenzie.sd61.bc.ca/calendar-event/musical-ticket-order-information-home-today/
END:VEVENT
BEGIN:VEVENT
DTSTART;TZID=America/Vancouver:20140327T030000
DTEND;TZID=America/Vancouver:20140327T150000
DTSTAMP:20260422T145005
CREATED:20140327T193929Z
LAST-MODIFIED:20140327T194115Z
UID:1866-1395889200-1395932400@mckenzie.sd61.bc.ca
SUMMARY:Mothers' Day Plant Fundraiser begins
DESCRIPTION:
URL:https://mckenzie.sd61.bc.ca/calendar-event/mothers-day-plant-fundraiser-begins/
END:VEVENT
BEGIN:VEVENT
DTSTART;VALUE=DATE:20140317
DTEND;VALUE=DATE:20140322
DTSTAMP:20260422T145005
CREATED:20131024T174114Z
LAST-MODIFIED:20131024T174114Z
UID:1312-1395014400-1395446399@mckenzie.sd61.bc.ca
SUMMARY:SPRING BREAK VACATION Mar 10-21
DESCRIPTION:
URL:https://mckenzie.sd61.bc.ca/calendar-event/spring-break-vacation-mar-10-21-2/
END:VEVENT
BEGIN:VEVENT
DTSTART;VALUE=DATE:20140310
DTEND;VALUE=DATE:20140315
DTSTAMP:20260422T145005
CREATED:20131024T173847Z
LAST-MODIFIED:20131024T174038Z
UID:1310-1394409600-1394841599@mckenzie.sd61.bc.ca
SUMMARY:SPRING BREAK VACATION Mar. 10-21
DESCRIPTION:
URL:https://mckenzie.sd61.bc.ca/calendar-event/spring-break-vacation-mar-10-21/
END:VEVENT
BEGIN:VEVENT
DTSTART;TZID=America/Vancouver:20140307T120000
DTEND;TZID=America/Vancouver:20140307T120000
DTSTAMP:20260422T145005
CREATED:20131024T173740Z
LAST-MODIFIED:20131024T173740Z
UID:1308-1394193600-1394193600@mckenzie.sd61.bc.ca
SUMMARY:Special Food Day
DESCRIPTION:
URL:https://mckenzie.sd61.bc.ca/calendar-event/special-food-day-5/
END:VEVENT
BEGIN:VEVENT
DTSTART;VALUE=DATE:20140307
DTEND;VALUE=DATE:20140308
DTSTAMP:20260422T145005
CREATED:20131024T173802Z
LAST-MODIFIED:20131024T173802Z
UID:1309-1394150400-1394236799@mckenzie.sd61.bc.ca
SUMMARY:Report Cards Home Today
DESCRIPTION:
URL:https://mckenzie.sd61.bc.ca/calendar-event/report-cards-home-today-2/
END:VEVENT
BEGIN:VEVENT
DTSTART;TZID=America/Vancouver:20140305T183000
DTEND;TZID=America/Vancouver:20140305T183000
DTSTAMP:20260422T145005
CREATED:20131024T173703Z
LAST-MODIFIED:20131024T173703Z
UID:1307-1394044200-1394044200@mckenzie.sd61.bc.ca
SUMMARY:PAC Meeting - 6:30 pm
DESCRIPTION:
URL:https://mckenzie.sd61.bc.ca/calendar-event/pac-meeting-630-pm-4/
END:VEVENT
BEGIN:VEVENT
DTSTART;VALUE=DATE:20140226
DTEND;VALUE=DATE:20140227
DTSTAMP:20260422T145005
CREATED:20131024T173302Z
LAST-MODIFIED:20131024T173459Z
UID:1304-1393372800-1393459199@mckenzie.sd61.bc.ca
SUMMARY:Pink Shirt Day & Anti-Bullying Assembly
DESCRIPTION:
URL:https://mckenzie.sd61.bc.ca/calendar-event/pink-shirt-day-anti-bullying-assembly/
END:VEVENT
BEGIN:VEVENT
DTSTART;TZID=America/Vancouver:20140224T134500
DTEND;TZID=America/Vancouver:20140224T134500
DTSTAMP:20260422T145005
CREATED:20131024T173158Z
LAST-MODIFIED:20131024T173546Z
UID:1303-1393249500-1393249500@mckenzie.sd61.bc.ca
SUMMARY:Assembly -       1:45 pm
DESCRIPTION:
URL:https://mckenzie.sd61.bc.ca/calendar-event/assembly-145-pm-2/
END:VEVENT
BEGIN:VEVENT
DTSTART;VALUE=DATE:20140221
DTEND;VALUE=DATE:20140222
DTSTAMP:20260422T145005
CREATED:20131024T173116Z
LAST-MODIFIED:20131024T173116Z
UID:1302-1392940800-1393027199@mckenzie.sd61.bc.ca
SUMMARY:Pro-D Day - school not in session
DESCRIPTION:
URL:https://mckenzie.sd61.bc.ca/calendar-event/pro-d-day-school-not-in-session-4/
END:VEVENT
BEGIN:VEVENT
DTSTART;TZID=America/Vancouver:20140219T100000
DTEND;TZID=America/Vancouver:20140219T220000
DTSTAMP:20260422T145005
CREATED:20131024T173033Z
LAST-MODIFIED:20131024T173033Z
UID:1301-1392804000-1392847200@mckenzie.sd61.bc.ca
SUMMARY:Ready\, Set\, Learn (for preschoolers)
DESCRIPTION:
URL:https://mckenzie.sd61.bc.ca/calendar-event/ready-set-learn-for-preschoolers/
END:VEVENT
BEGIN:VEVENT
DTSTART;VALUE=DATE:20140218
DTEND;VALUE=DATE:20140219
DTSTAMP:20260422T145005
CREATED:20140123T180024Z
LAST-MODIFIED:20140123T180024Z
UID:1747-1392681600-1392767999@mckenzie.sd61.bc.ca
SUMMARY:Symphony Div 2-6
DESCRIPTION:
URL:https://mckenzie.sd61.bc.ca/calendar-event/symphony-div-2-6/
END:VEVENT
BEGIN:VEVENT
DTSTART;VALUE=DATE:20140214
DTEND;VALUE=DATE:20140215
DTSTAMP:20260422T145005
CREATED:20131024T172913Z
LAST-MODIFIED:20131024T172913Z
UID:1300-1392336000-1392422399@mckenzie.sd61.bc.ca
SUMMARY:Red & Pink Day
DESCRIPTION:
URL:https://mckenzie.sd61.bc.ca/calendar-event/red-pink-day/
END:VEVENT
BEGIN:VEVENT
DTSTART;TZID=America/Vancouver:20140213T170000
DTEND;TZID=America/Vancouver:20140213T200000
DTSTAMP:20260422T145005
CREATED:20131024T173344Z
LAST-MODIFIED:20140206T184638Z
UID:1305-1392310800-1392321600@mckenzie.sd61.bc.ca
SUMMARY:Bingo-Movie Night  5:30-8 pm
DESCRIPTION:
URL:https://mckenzie.sd61.bc.ca/calendar-event/bingo-movie-night-530-8-pm/
END:VEVENT
BEGIN:VEVENT
DTSTART;TZID=America/Vancouver:20140212T183000
DTEND;TZID=America/Vancouver:20140212T183000
DTSTAMP:20260422T145005
CREATED:20131024T172848Z
LAST-MODIFIED:20131024T172848Z
UID:1299-1392229800-1392229800@mckenzie.sd61.bc.ca
SUMMARY:PAC Meeting 6:30 pm
DESCRIPTION:
URL:https://mckenzie.sd61.bc.ca/calendar-event/pac-meeting-630-pm/
END:VEVENT
BEGIN:VEVENT
DTSTART;VALUE=DATE:20140210
DTEND;VALUE=DATE:20140211
DTSTAMP:20260422T145005
CREATED:20131024T172759Z
LAST-MODIFIED:20131024T172759Z
UID:1298-1391990400-1392076799@mckenzie.sd61.bc.ca
SUMMARY:BC Family Day - school not in session
DESCRIPTION:
URL:https://mckenzie.sd61.bc.ca/calendar-event/bc-family-day-school-not-in-session/
END:VEVENT
END:VCALENDAR