BEGIN:VCALENDAR
VERSION:2.0
PRODID:-//McKenzie Elementary - ECPv6.2.8.1//NONSGML v1.0//EN
CALSCALE:GREGORIAN
METHOD:PUBLISH
X-WR-CALNAME:McKenzie Elementary
X-ORIGINAL-URL:https://mckenzie.sd61.bc.ca
X-WR-CALDESC:Events for McKenzie Elementary
REFRESH-INTERVAL;VALUE=DURATION:PT1H
X-Robots-Tag:noindex
X-PUBLISHED-TTL:PT1H
BEGIN:VTIMEZONE
TZID:America/Vancouver
BEGIN:DAYLIGHT
TZOFFSETFROM:-0800
TZOFFSETTO:-0700
TZNAME:PDT
DTSTART:20140309T100000
END:DAYLIGHT
BEGIN:STANDARD
TZOFFSETFROM:-0700
TZOFFSETTO:-0800
TZNAME:PST
DTSTART:20141102T090000
END:STANDARD
BEGIN:DAYLIGHT
TZOFFSETFROM:-0800
TZOFFSETTO:-0700
TZNAME:PDT
DTSTART:20150308T100000
END:DAYLIGHT
BEGIN:STANDARD
TZOFFSETFROM:-0700
TZOFFSETTO:-0800
TZNAME:PST
DTSTART:20151101T090000
END:STANDARD
END:VTIMEZONE
BEGIN:VEVENT
DTSTART;VALUE=DATE:20150306
DTEND;VALUE=DATE:20150307
DTSTAMP:20260420T204623
CREATED:20140929T202453Z
LAST-MODIFIED:20140929T202958Z
UID:2094-1425600000-1425686399@mckenzie.sd61.bc.ca
SUMMARY:Special Food Day  * Report Cards Home *  Last Day Before Spring Break
DESCRIPTION:
URL:https://mckenzie.sd61.bc.ca/calendar-event/special-food-day-report-cards-home-last-day-before-spring-break/
END:VEVENT
BEGIN:VEVENT
DTSTART;TZID=America/Vancouver:20150304T183000
DTEND;TZID=America/Vancouver:20150304T203000
DTSTAMP:20260420T204623
CREATED:20140929T202544Z
LAST-MODIFIED:20140929T202544Z
UID:2095-1425493800-1425501000@mckenzie.sd61.bc.ca
SUMMARY:PAC Meeting
DESCRIPTION:
URL:https://mckenzie.sd61.bc.ca/calendar-event/pac-meeting-11/
END:VEVENT
BEGIN:VEVENT
DTSTART;VALUE=DATE:20150226
DTEND;VALUE=DATE:20150227
DTSTAMP:20260420T204623
CREATED:20140929T192647Z
LAST-MODIFIED:20140929T192647Z
UID:2092-1424908800-1424995199@mckenzie.sd61.bc.ca
SUMMARY:Movie Night
DESCRIPTION:
URL:https://mckenzie.sd61.bc.ca/calendar-event/movie-night/
END:VEVENT
BEGIN:VEVENT
DTSTART;VALUE=DATE:20150223
DTEND;VALUE=DATE:20150224
DTSTAMP:20260420T204623
CREATED:20140929T192604Z
LAST-MODIFIED:20140929T192604Z
UID:2091-1424649600-1424735999@mckenzie.sd61.bc.ca
SUMMARY:Assembly
DESCRIPTION:
URL:https://mckenzie.sd61.bc.ca/calendar-event/assembly-5/
END:VEVENT
BEGIN:VEVENT
DTSTART;VALUE=DATE:20150220
DTEND;VALUE=DATE:20150221
DTSTAMP:20260420T204623
CREATED:20140929T192359Z
LAST-MODIFIED:20140929T192359Z
UID:2090-1424390400-1424476799@mckenzie.sd61.bc.ca
SUMMARY:Pro D Day
DESCRIPTION:
URL:https://mckenzie.sd61.bc.ca/calendar-event/pro-d-day-3/
END:VEVENT
BEGIN:VEVENT
DTSTART;TZID=America/Vancouver:20150218T100000
DTEND;TZID=America/Vancouver:20150218T114500
DTSTAMP:20260420T204623
CREATED:20140929T192322Z
LAST-MODIFIED:20140929T192322Z
UID:2089-1424253600-1424259900@mckenzie.sd61.bc.ca
SUMMARY:Ready Set Learn
DESCRIPTION:
URL:https://mckenzie.sd61.bc.ca/calendar-event/ready-set-learn/
END:VEVENT
BEGIN:VEVENT
DTSTART;VALUE=DATE:20150213
DTEND;VALUE=DATE:20150214
DTSTAMP:20260420T204623
CREATED:20140929T192216Z
LAST-MODIFIED:20140929T192216Z
UID:2088-1423785600-1423871999@mckenzie.sd61.bc.ca
SUMMARY:Red and Pink Day
DESCRIPTION:
URL:https://mckenzie.sd61.bc.ca/calendar-event/red-and-pink-day/
END:VEVENT
BEGIN:VEVENT
DTSTART;TZID=America/Vancouver:20150211T183000
DTEND;TZID=America/Vancouver:20150211T203000
DTSTAMP:20260420T204623
CREATED:20140929T192149Z
LAST-MODIFIED:20140929T192149Z
UID:2087-1423679400-1423686600@mckenzie.sd61.bc.ca
SUMMARY:PAC Meeting
DESCRIPTION:
URL:https://mckenzie.sd61.bc.ca/calendar-event/pac-meeting-10/
END:VEVENT
BEGIN:VEVENT
DTSTART;VALUE=DATE:20150209
DTEND;VALUE=DATE:20150210
DTSTAMP:20260420T204623
CREATED:20140929T192055Z
LAST-MODIFIED:20140930T214009Z
UID:2086-1423440000-1423526399@mckenzie.sd61.bc.ca
SUMMARY:Family Day * School Not in Session
DESCRIPTION:
URL:https://mckenzie.sd61.bc.ca/calendar-event/family-day-school-not-in-session/
END:VEVENT
BEGIN:VEVENT
DTSTART;VALUE=DATE:20150206
DTEND;VALUE=DATE:20150207
DTSTAMP:20260420T204623
CREATED:20140929T191924Z
LAST-MODIFIED:20140929T191924Z
UID:2085-1423180800-1423267199@mckenzie.sd61.bc.ca
SUMMARY:Pro-D Day in Lieu
DESCRIPTION:
URL:https://mckenzie.sd61.bc.ca/calendar-event/pro-d-day-in-lieu/
END:VEVENT
BEGIN:VEVENT
DTSTART;VALUE=DATE:20150205
DTEND;VALUE=DATE:20150206
DTSTAMP:20260420T204623
CREATED:20140929T191801Z
LAST-MODIFIED:20141001T195810Z
UID:2084-1423094400-1423180799@mckenzie.sd61.bc.ca
SUMMARY:Student Led Conferences * 11:59 a.m. Dismissal
DESCRIPTION:
URL:https://mckenzie.sd61.bc.ca/calendar-event/student-led-conferences-1157-a-m-dismissal/
END:VEVENT
BEGIN:VEVENT
DTSTART;VALUE=DATE:20150202
DTEND;VALUE=DATE:20150206
DTSTAMP:20260420T204623
CREATED:20140929T191650Z
LAST-MODIFIED:20150127T195844Z
UID:2083-1422835200-1423180799@mckenzie.sd61.bc.ca
SUMMARY:READING WEEK * Book Fair This Week
DESCRIPTION:
URL:https://mckenzie.sd61.bc.ca/calendar-event/reading-week-book-fair-this-week/
END:VEVENT
BEGIN:VEVENT
DTSTART;VALUE=DATE:20150130
DTEND;VALUE=DATE:20150131
DTSTAMP:20260420T204623
CREATED:20140929T191200Z
LAST-MODIFIED:20140929T191200Z
UID:2082-1422576000-1422662399@mckenzie.sd61.bc.ca
SUMMARY:Book Fair Walk-Through
DESCRIPTION:
URL:https://mckenzie.sd61.bc.ca/calendar-event/book-fair-walk-through/
END:VEVENT
BEGIN:VEVENT
DTSTART;TZID=America/Vancouver:20150126T134500
DTEND;TZID=America/Vancouver:20150126T134500
DTSTAMP:20260420T204623
CREATED:20150121T182749Z
LAST-MODIFIED:20150121T183012Z
UID:2230-1422279900-1422279900@mckenzie.sd61.bc.ca
SUMMARY:Assembly
DESCRIPTION:
URL:https://mckenzie.sd61.bc.ca/calendar-event/assembly-9/
END:VEVENT
BEGIN:VEVENT
DTSTART;VALUE=DATE:20150126
DTEND;VALUE=DATE:20150131
DTSTAMP:20260420T204623
CREATED:20140929T191113Z
LAST-MODIFIED:20150121T182455Z
UID:2081-1422230400-1422662399@mckenzie.sd61.bc.ca
SUMMARY:Regular Kindergarten Registration This Week
DESCRIPTION:
URL:https://mckenzie.sd61.bc.ca/calendar-event/assembly-regular-kindergarten-registration-this-week/
END:VEVENT
BEGIN:VEVENT
DTSTART;TZID=America/Vancouver:20150122T180000
DTEND;TZID=America/Vancouver:20150122T193000
DTSTAMP:20260420T204623
CREATED:20140929T190540Z
LAST-MODIFIED:20140929T190540Z
UID:2080-1421949600-1421955000@mckenzie.sd61.bc.ca
SUMMARY:Family Dance
DESCRIPTION:
URL:https://mckenzie.sd61.bc.ca/calendar-event/family-dance-2/
END:VEVENT
BEGIN:VEVENT
DTSTART;VALUE=DATE:20150119
DTEND;VALUE=DATE:20150120
DTSTAMP:20260420T204623
CREATED:20141028T154159Z
LAST-MODIFIED:20141028T154159Z
UID:2142-1421625600-1421711999@mckenzie.sd61.bc.ca
SUMMARY:Pro-D Day
DESCRIPTION:
URL:https://mckenzie.sd61.bc.ca/calendar-event/pro-d-day-4/
END:VEVENT
BEGIN:VEVENT
DTSTART;VALUE=DATE:20150116
DTEND;VALUE=DATE:20150117
DTSTAMP:20260420T204623
CREATED:20140929T190438Z
LAST-MODIFIED:20140929T190438Z
UID:2078-1421366400-1421452799@mckenzie.sd61.bc.ca
SUMMARY:Special Food Day
DESCRIPTION:
URL:https://mckenzie.sd61.bc.ca/calendar-event/special-food-day-11/
END:VEVENT
BEGIN:VEVENT
DTSTART;TZID=America/Vancouver:20150114T183000
DTEND;TZID=America/Vancouver:20150114T203000
DTSTAMP:20260420T204623
CREATED:20140929T190333Z
LAST-MODIFIED:20140929T190334Z
UID:2077-1421260200-1421267400@mckenzie.sd61.bc.ca
SUMMARY:PAC Meeting
DESCRIPTION:
URL:https://mckenzie.sd61.bc.ca/calendar-event/pac-meeting-9/
END:VEVENT
BEGIN:VEVENT
DTSTART;VALUE=DATE:20150112
DTEND;VALUE=DATE:20150113
DTSTAMP:20260420T204623
CREATED:20140929T190238Z
LAST-MODIFIED:20140929T190238Z
UID:2076-1421020800-1421107199@mckenzie.sd61.bc.ca
SUMMARY:Early FRIM and Coastal K Registration This Week
DESCRIPTION:
URL:https://mckenzie.sd61.bc.ca/calendar-event/early-frim-and-coastal-k-registration-this-week/
END:VEVENT
BEGIN:VEVENT
DTSTART;VALUE=DATE:20150105
DTEND;VALUE=DATE:20150106
DTSTAMP:20260420T204623
CREATED:20140929T185841Z
LAST-MODIFIED:20140929T185841Z
UID:2075-1420416000-1420502399@mckenzie.sd61.bc.ca
SUMMARY:Schools Re-open
DESCRIPTION:
URL:https://mckenzie.sd61.bc.ca/calendar-event/schools-re-open/
END:VEVENT
BEGIN:VEVENT
DTSTART;TZID=America/Vancouver:20150103T100000
DTEND;TZID=America/Vancouver:20150103T140000
DTSTAMP:20260420T204623
CREATED:20141211T171755Z
LAST-MODIFIED:20141211T171755Z
UID:2172-1420279200-1420293600@mckenzie.sd61.bc.ca
SUMMARY:PAC Christmas Tree Chipping
DESCRIPTION:PAC Fundraiser in Parking Lot
URL:https://mckenzie.sd61.bc.ca/calendar-event/pac-christmas-tree-chipping/
END:VEVENT
BEGIN:VEVENT
DTSTART;VALUE=DATE:20141229
DTEND;VALUE=DATE:20150103
DTSTAMP:20260420T204623
CREATED:20140929T184624Z
LAST-MODIFIED:20140929T184624Z
UID:2074-1419811200-1420243199@mckenzie.sd61.bc.ca
SUMMARY:Winter Break This Week
DESCRIPTION:
URL:https://mckenzie.sd61.bc.ca/calendar-event/winter-break-this-week-2/
END:VEVENT
BEGIN:VEVENT
DTSTART;VALUE=DATE:20141222
DTEND;VALUE=DATE:20141227
DTSTAMP:20260420T204623
CREATED:20140929T184532Z
LAST-MODIFIED:20140929T184532Z
UID:2073-1419206400-1419638399@mckenzie.sd61.bc.ca
SUMMARY:Winter Break This Week
DESCRIPTION:
URL:https://mckenzie.sd61.bc.ca/calendar-event/winter-break-this-week/
END:VEVENT
BEGIN:VEVENT
DTSTART;VALUE=DATE:20141218
DTEND;VALUE=DATE:20141219
DTSTAMP:20260420T204623
CREATED:20141017T211413Z
LAST-MODIFIED:20141017T211413Z
UID:2137-1418860800-1418947199@mckenzie.sd61.bc.ca
SUMMARY:Craft &  Carol Night
DESCRIPTION:
URL:https://mckenzie.sd61.bc.ca/calendar-event/craft-carol-night-2/
END:VEVENT
BEGIN:VEVENT
DTSTART;TZID=America/Vancouver:20141215T134500
DTEND;TZID=America/Vancouver:20141215T134500
DTSTAMP:20260420T204623
CREATED:20140929T184428Z
LAST-MODIFIED:20141215T175132Z
UID:2072-1418651100-1418651100@mckenzie.sd61.bc.ca
SUMMARY:Assembly
DESCRIPTION:
URL:https://mckenzie.sd61.bc.ca/calendar-event/assembly-4/
END:VEVENT
BEGIN:VEVENT
DTSTART;VALUE=DATE:20141212
DTEND;VALUE=DATE:20141213
DTSTAMP:20260420T204623
CREATED:20140929T184404Z
LAST-MODIFIED:20140929T184404Z
UID:2071-1418342400-1418428799@mckenzie.sd61.bc.ca
SUMMARY:Special Food Day
DESCRIPTION:
URL:https://mckenzie.sd61.bc.ca/calendar-event/special-food-day-10/
END:VEVENT
BEGIN:VEVENT
DTSTART;VALUE=DATE:20141211
DTEND;VALUE=DATE:20141212
DTSTAMP:20260420T204623
CREATED:20141017T211243Z
LAST-MODIFIED:20141017T211732Z
UID:2136-1418256000-1418342399@mckenzie.sd61.bc.ca
SUMMARY:Parent Teacher Interviews  Early Dismissal @ 11:57
DESCRIPTION:
URL:https://mckenzie.sd61.bc.ca/calendar-event/parent-teacher-interviews-early-dismissal-1157-2/
END:VEVENT
BEGIN:VEVENT
DTSTART;TZID=America/Vancouver:20141210T183000
DTEND;TZID=America/Vancouver:20141210T203000
DTSTAMP:20260420T204623
CREATED:20140929T184226Z
LAST-MODIFIED:20140929T184226Z
UID:2069-1418236200-1418243400@mckenzie.sd61.bc.ca
SUMMARY:PAC Meeting
DESCRIPTION:
URL:https://mckenzie.sd61.bc.ca/calendar-event/pac-meeting-8/
END:VEVENT
BEGIN:VEVENT
DTSTART;VALUE=DATE:20141209
DTEND;VALUE=DATE:20141210
DTSTAMP:20260420T204623
CREATED:20141017T211152Z
LAST-MODIFIED:20141017T211901Z
UID:2135-1418083200-1418169599@mckenzie.sd61.bc.ca
SUMMARY:Parent Teacher Interviews  Early Dismissal @ 11:57
DESCRIPTION:
URL:https://mckenzie.sd61.bc.ca/calendar-event/parent-teacher-interviews-early-dismissal-1157/
END:VEVENT
END:VCALENDAR