BEGIN:VCALENDAR
VERSION:2.0
PRODID:-//McKenzie Elementary - ECPv6.2.8.1//NONSGML v1.0//EN
CALSCALE:GREGORIAN
METHOD:PUBLISH
X-WR-CALNAME:McKenzie Elementary
X-ORIGINAL-URL:https://mckenzie.sd61.bc.ca
X-WR-CALDESC:Events for McKenzie Elementary
REFRESH-INTERVAL;VALUE=DURATION:PT1H
X-Robots-Tag:noindex
X-PUBLISHED-TTL:PT1H
BEGIN:VTIMEZONE
TZID:America/Vancouver
BEGIN:DAYLIGHT
TZOFFSETFROM:-0800
TZOFFSETTO:-0700
TZNAME:PDT
DTSTART:20150308T100000
END:DAYLIGHT
BEGIN:STANDARD
TZOFFSETFROM:-0700
TZOFFSETTO:-0800
TZNAME:PST
DTSTART:20151101T090000
END:STANDARD
END:VTIMEZONE
BEGIN:VEVENT
DTSTART;TZID=America/Vancouver:20150928T080000
DTEND;TZID=America/Vancouver:20150928T170000
DTSTAMP:20260419T134718
CREATED:20150909T184052Z
LAST-MODIFIED:20150909T184052Z
UID:2395-1443427200-1443459600@mckenzie.sd61.bc.ca
SUMMARY:Assembly
DESCRIPTION:
URL:https://mckenzie.sd61.bc.ca/calendar-event/assembly-10/
END:VEVENT
BEGIN:VEVENT
DTSTART;VALUE=DATE:20150929
DTEND;VALUE=DATE:20150930
DTSTAMP:20260419T134718
CREATED:20150909T184206Z
LAST-MODIFIED:20150909T184206Z
UID:2396-1443484800-1443571199@mckenzie.sd61.bc.ca
SUMMARY:Parent-Teacher Interviews - Noon Dismissal
DESCRIPTION:
URL:https://mckenzie.sd61.bc.ca/calendar-event/parent-teacher-interviews-noon-dismissal/
END:VEVENT
END:VCALENDAR