BEGIN:VCALENDAR
VERSION:2.0
PRODID:-//McKenzie Elementary - ECPv6.2.8.1//NONSGML v1.0//EN
CALSCALE:GREGORIAN
METHOD:PUBLISH
X-WR-CALNAME:McKenzie Elementary
X-ORIGINAL-URL:https://mckenzie.sd61.bc.ca
X-WR-CALDESC:Events for McKenzie Elementary
REFRESH-INTERVAL;VALUE=DURATION:PT1H
X-Robots-Tag:noindex
X-PUBLISHED-TTL:PT1H
BEGIN:VTIMEZONE
TZID:America/Vancouver
BEGIN:DAYLIGHT
TZOFFSETFROM:-0800
TZOFFSETTO:-0700
TZNAME:PDT
DTSTART:20150308T100000
END:DAYLIGHT
BEGIN:STANDARD
TZOFFSETFROM:-0700
TZOFFSETTO:-0800
TZNAME:PST
DTSTART:20151101T090000
END:STANDARD
END:VTIMEZONE
BEGIN:VEVENT
DTSTART;VALUE=DATE:20150126
DTEND;VALUE=DATE:20150131
DTSTAMP:20260421T050952
CREATED:20140929T191113Z
LAST-MODIFIED:20150121T182455Z
UID:2081-1422230400-1422662399@mckenzie.sd61.bc.ca
SUMMARY:Regular Kindergarten Registration This Week
DESCRIPTION:
URL:https://mckenzie.sd61.bc.ca/calendar-event/assembly-regular-kindergarten-registration-this-week/
END:VEVENT
BEGIN:VEVENT
DTSTART;VALUE=DATE:20150130
DTEND;VALUE=DATE:20150131
DTSTAMP:20260421T050952
CREATED:20140929T191200Z
LAST-MODIFIED:20140929T191200Z
UID:2082-1422576000-1422662399@mckenzie.sd61.bc.ca
SUMMARY:Book Fair Walk-Through
DESCRIPTION:
URL:https://mckenzie.sd61.bc.ca/calendar-event/book-fair-walk-through/
END:VEVENT
END:VCALENDAR