BEGIN:VCALENDAR
VERSION:2.0
PRODID:-//McKenzie Elementary - ECPv6.2.8.1//NONSGML v1.0//EN
CALSCALE:GREGORIAN
METHOD:PUBLISH
X-ORIGINAL-URL:https://mckenzie.sd61.bc.ca
X-WR-CALDESC:Events for McKenzie Elementary
REFRESH-INTERVAL;VALUE=DURATION:PT1H
X-Robots-Tag:noindex
X-PUBLISHED-TTL:PT1H
BEGIN:VTIMEZONE
TZID:America/Vancouver
BEGIN:DAYLIGHT
TZOFFSETFROM:-0800
TZOFFSETTO:-0700
TZNAME:PDT
DTSTART:20140309T100000
END:DAYLIGHT
BEGIN:STANDARD
TZOFFSETFROM:-0700
TZOFFSETTO:-0800
TZNAME:PST
DTSTART:20141102T090000
END:STANDARD
END:VTIMEZONE
BEGIN:VEVENT
DTSTART;VALUE=DATE:20140626
DTEND;VALUE=DATE:20140627
DTSTAMP:20260423T033046
CREATED:20140121T180325Z
LAST-MODIFIED:20140121T180325Z
UID:1739-1403740800-1403827199@mckenzie.sd61.bc.ca
SUMMARY:Last Day for Students
DESCRIPTION:
URL:https://mckenzie.sd61.bc.ca/calendar-event/last-day-for-students/
END:VEVENT
BEGIN:VEVENT
DTSTART;VALUE=DATE:20140626
DTEND;VALUE=DATE:20140627
DTSTAMP:20260423T033046
CREATED:20140121T180343Z
LAST-MODIFIED:20140121T180343Z
UID:1740-1403740800-1403827199@mckenzie.sd61.bc.ca
SUMMARY:Year End Fun Day
DESCRIPTION:
URL:https://mckenzie.sd61.bc.ca/calendar-event/year-end-fun-day/
END:VEVENT
BEGIN:VEVENT
DTSTART;TZID=America/Vancouver:20140626T144500
DTEND;TZID=America/Vancouver:20140626T144500
DTSTAMP:20260423T033046
CREATED:20140121T180423Z
LAST-MODIFIED:20140121T180423Z
UID:1741-1403793900-1403793900@mckenzie.sd61.bc.ca
SUMMARY:Report Cards Home
DESCRIPTION:
URL:https://mckenzie.sd61.bc.ca/calendar-event/report-cards-home/
END:VEVENT
BEGIN:VEVENT
DTSTART;VALUE=DATE:20140627
DTEND;VALUE=DATE:20140628
DTSTAMP:20260423T033046
CREATED:20140121T180449Z
LAST-MODIFIED:20140121T180449Z
UID:1742-1403827200-1403913599@mckenzie.sd61.bc.ca
SUMMARY:Administrative Day
DESCRIPTION:
URL:https://mckenzie.sd61.bc.ca/calendar-event/administrative-day/
END:VEVENT
END:VCALENDAR